BEGIN:VCALENDAR
VERSION:2.0
PRODID:-//Northern Colorado IMRG - ECPv6.15.17//NONSGML v1.0//EN
CALSCALE:GREGORIAN
METHOD:PUBLISH
X-WR-CALNAME:Northern Colorado IMRG
X-ORIGINAL-URL:https://nocoimrg.org
X-WR-CALDESC:Events for Northern Colorado IMRG
REFRESH-INTERVAL;VALUE=DURATION:PT1H
X-Robots-Tag:noindex
X-PUBLISHED-TTL:PT1H
BEGIN:VTIMEZONE
TZID:America/Denver
BEGIN:DAYLIGHT
TZOFFSETFROM:-0700
TZOFFSETTO:-0600
TZNAME:MDT
DTSTART:20180311T090000
END:DAYLIGHT
BEGIN:STANDARD
TZOFFSETFROM:-0600
TZOFFSETTO:-0700
TZNAME:MST
DTSTART:20181104T080000
END:STANDARD
BEGIN:DAYLIGHT
TZOFFSETFROM:-0700
TZOFFSETTO:-0600
TZNAME:MDT
DTSTART:20190310T090000
END:DAYLIGHT
BEGIN:STANDARD
TZOFFSETFROM:-0600
TZOFFSETTO:-0700
TZNAME:MST
DTSTART:20191103T080000
END:STANDARD
BEGIN:DAYLIGHT
TZOFFSETFROM:-0700
TZOFFSETTO:-0600
TZNAME:MDT
DTSTART:20200308T090000
END:DAYLIGHT
BEGIN:STANDARD
TZOFFSETFROM:-0600
TZOFFSETTO:-0700
TZNAME:MST
DTSTART:20201101T080000
END:STANDARD
END:VTIMEZONE
BEGIN:VEVENT
DTSTART;TZID=America/Denver:20191203T183000
DTEND;TZID=America/Denver:20191203T183000
DTSTAMP:20260420T072623
CREATED:20190713T002058Z
LAST-MODIFIED:20190713T002058Z
UID:398-1575397800-1575397800@nocoimrg.org
SUMMARY:NoCo IMRG Board Meeting (December)
DESCRIPTION:
URL:https://nocoimrg.org/event/noco-imrg-board-meeting-5/
LOCATION:TBD
CATEGORIES:Meeting - Board
END:VEVENT
BEGIN:VEVENT
DTSTART;TZID=America/Denver:20191121T183000
DTEND;TZID=America/Denver:20191121T183000
DTSTAMP:20260420T072623
CREATED:20190717T225904Z
LAST-MODIFIED:20191102T171941Z
UID:741-1574361000-1574361000@nocoimrg.org
SUMMARY:NoCo IMRG Chapter Meeting (November)
DESCRIPTION:The Northern Colorado Indian Motorcycle Riders Group of Fort Collins is about riding\, socializing\, and having fun.  We have monthly meetings held at the Indian Motorcycle of Fort Collins dealership to talk about IMRG Chapter topics and upcoming events.  If you are not already a NoCo IMRG Chapter member and would like to learn more about us\, we invite you to attend a meeting and to connect with us.
URL:https://nocoimrg.org/event/noco-imrg-chapter-meeting-november/
LOCATION:Indian Motorcycle of Fort Collins\, 1800 Frontage Rd\, Fort Collins\, CO\, 80525\, United States
CATEGORIES:Meeting - Chapter
END:VEVENT
BEGIN:VEVENT
DTSTART;TZID=America/Denver:20191105T183000
DTEND;TZID=America/Denver:20191105T183000
DTSTAMP:20260420T072623
CREATED:20190713T001906Z
LAST-MODIFIED:20190713T001906Z
UID:394-1572978600-1572978600@nocoimrg.org
SUMMARY:NoCo IMRG Board Meeting (November)
DESCRIPTION:
URL:https://nocoimrg.org/event/noco-imrg-board-meeting-4/
LOCATION:TBD
CATEGORIES:Meeting - Board
END:VEVENT
BEGIN:VEVENT
DTSTART;VALUE=DATE:20191024
DTEND;VALUE=DATE:20191026
DTSTAMP:20260420T072623
CREATED:20190713T001634Z
LAST-MODIFIED:20190930T234245Z
UID:392-1571875200-1572047999@nocoimrg.org
SUMMARY:IMRG National Jack Daniels Ride
DESCRIPTION:The 6th Annual National IMRG Jack Daniels Ride.  Two days of IMRG camaraderie through some historic Chattanooga experiences & and an epic ride through the Tennessee hills. \n  \nDetails & Registration
URL:https://nocoimrg.org/event/imrg-national-jack-daniels-ride/
LOCATION:Chattanooga\, TN\, Chattanooga\, TN\, United States
CATEGORIES:Non-Chapter Event,Ride - Multi-Night
END:VEVENT
BEGIN:VEVENT
DTSTART;TZID=America/Denver:20191017T183000
DTEND;TZID=America/Denver:20191017T183000
DTSTAMP:20260420T072623
CREATED:20190713T001151Z
LAST-MODIFIED:20190930T131814Z
UID:389-1571337000-1571337000@nocoimrg.org
SUMMARY:NoCo IMRG Chapter Meeting (October)
DESCRIPTION:The Northern Colorado Indian Motorcycle Riders Group of Fort Collins is about riding\, socializing\, and having fun.  We have monthly meetings held at the Indian Motorcycle of Fort Collins dealership to talk about IMRG Chapter topics and upcoming events.  If you are not already a NoCo IMRG Chapter member and would like to learn more about us\, we invite you to attend a meeting and to connect with us. \nThis meeting will be the election of officers. Make sure to read your emails and come out and vote or get your vote counted. We hope to see many of you there.
URL:https://nocoimrg.org/event/noco-imrg-chapter-meeting-3/
LOCATION:Indian Motorcycle of Fort Collins\, 1800 Frontage Rd\, Fort Collins\, CO\, 80525\, United States
CATEGORIES:Meeting - Chapter
END:VEVENT
BEGIN:VEVENT
DTSTART;TZID=America/Denver:20191013T100000
DTEND;TZID=America/Denver:20191013T160000
DTSTAMP:20260420T072623
CREATED:20190930T131500Z
LAST-MODIFIED:20191003T125536Z
UID:1939-1570960800-1570982400@nocoimrg.org
SUMMARY:NoCo IMRG Dine and Dash Progressive Ride
DESCRIPTION:We have put an additional item on the planner. This ride will begin at Indian of Fort Collins.  Leaving there we will be going to different host homes for Appetizers\, Soup and/or Salad\, Main Entrée\, and Dessert.  That will be (4) four host homes we will embark on to enjoy a small bite and be on the way for nice rides in between to the next course in our complete meal. \nWe really APPRECIATE the HOSTS stepping up to offer their homes and prepare items for our group. We also APPRECIATE our ROAD CAPTAINS in helping with this event as well! It could not be done without them. We have great turnouts for most rides\, and I am sure this will be one you will not want to miss. \nWe will be meeting at Indian of Fort Collins at 10:00am with KSU at 10:30am. COME ENJOY THE RIDE\, FOOD and FUN! See you all there.
URL:https://nocoimrg.org/event/noco-imrg-dine-and-dash-progressive-ride/
LOCATION:NoCo IMRG Chapter Member Homes
CATEGORIES:Ride - Dinner
END:VEVENT
BEGIN:VEVENT
DTSTART;TZID=America/Denver:20191012T090000
DTEND;TZID=America/Denver:20191012T120000
DTSTAMP:20260420T072623
CREATED:20190930T130358Z
LAST-MODIFIED:20191002T124628Z
UID:1931-1570870800-1570881600@nocoimrg.org
SUMMARY:Clearview Shields Open House
DESCRIPTION:Craig came to the last NoCo IMRG Chapter meeting and spoke about the shields.  You can stop by their facility and check it all out.  Feel free to tour the shop and see exactly how a shield is handcrafted.  Breakfast and coffee will be provided.  Any questions you may have contact them at 970-223-2301. \nThe Clearview Shields Open House is on Oct 12th and 26th. \nThere will NOT be a Chapter ride for this event.
URL:https://nocoimrg.org/event/clearview-shields-open-house/
LOCATION:Clearview Shields\, 109 Smokey St\, Fort Collins\, CO\, 80525\, United States
CATEGORIES:Non-Chapter Event
END:VEVENT
BEGIN:VEVENT
DTSTART;TZID=America/Denver:20191001T183000
DTEND;TZID=America/Denver:20191001T183000
DTSTAMP:20260420T072623
CREATED:20190713T001056Z
LAST-MODIFIED:20190713T001056Z
UID:387-1569954600-1569954600@nocoimrg.org
SUMMARY:NoCo IMRG Board Meeting (October)
DESCRIPTION:
URL:https://nocoimrg.org/event/noco-imrg-board-meeting-3/
LOCATION:TBD
CATEGORIES:Meeting - Board
END:VEVENT
BEGIN:VEVENT
DTSTART;TZID=America/Denver:20190928T093000
DTEND;TZID=America/Denver:20190928T110000
DTSTAMP:20260420T072623
CREATED:20190712T234306Z
LAST-MODIFIED:20191103T202959Z
UID:376-1569663000-1569668400@nocoimrg.org
SUMMARY:NoCo IMRG Ride - The Greatest Time to Ride Event
DESCRIPTION:This event is being sponsored by Indian Motorcycle of Fort Collins.  The Northern Colorado IMRG is planning the group ride.  This event will be OPEN to ANYONE.  There will be NoCo IMRG Road Captains leading\, mixed in the pack\, and sweeping this ride.  All of the Chapter’s normal road rules will apply. \nMeet at the Indian Motorcycle of Fort Collins at 9:30am with kickstands-up at 10:00am for a 1 hour flatlanders ride.  (All riders who attend must have a motorcycle endorsement to participate in this group ride) \n 
URL:https://nocoimrg.org/event/indian-motorcycle-greatest-time-to-ride-event/
LOCATION:Indian Motorcycle of Fort Collins\, 1800 Frontage Rd\, Fort Collins\, CO\, 80525\, United States
CATEGORIES:Dealership Event,Ride - Day
END:VEVENT
BEGIN:VEVENT
DTSTART;TZID=America/Denver:20190922T100000
DTEND;TZID=America/Denver:20190922T140000
DTSTAMP:20260420T072623
CREATED:20190713T000838Z
LAST-MODIFIED:20190916T125004Z
UID:384-1569146400-1569160800@nocoimrg.org
SUMMARY:NoCo IMRG Red Feather Lakes Ride
DESCRIPTION:Fall NoCo IMRG Chapter ride to Red Feather Lakes.  This will be a relaxing ride – one that will have you enjoying the easy ride there\, viewing the scenery and enjoying a lunch that you really would like to eat!  The meal will be very enjoyable as you will be bringing a BROWN BAG type lunch to eat there at the site where we will stop.  So hence why you would really enjoy it…YOU ARE PACKING IT and BRINGING IT (there may be a few surprises on this ride\, but you must come to find out what they will be). \nThis being a Sunday ride…. we are going to meet at VERNS Place (4120 Co Rd 54G\, Laporte\, CO 80535) that morning at 10am with KSU at 10:30am. We will make our way to Red Feather (approximately an hour ride) and we will go to Dowdy Lake. Red Feather has a few areas that are common use areas and Dowdy Lake is one of them. There is a place to grab an envelope and pay $5 for the use of the area. I will not be collecting or patrolling this; however\, I will make sure to point out where the box is to drop the fee. There are restrooms in the area at the Lake where we are planning to visit.  We will enjoy our lunch and comradery and then head back to Vern’s where the ride will end.  Any questions on the ride/lunch/fee please talk with Dawn Carroll.
URL:https://nocoimrg.org/event/red-feather-lakes-ride/
LOCATION:Red Feather Lakes\, CO\, CO\, United States
CATEGORIES:Ride - Day
END:VEVENT
BEGIN:VEVENT
DTSTART;TZID=America/Denver:20190919T183000
DTEND;TZID=America/Denver:20190919T183000
DTSTAMP:20260420T072623
CREATED:20190713T000615Z
LAST-MODIFIED:20190916T124246Z
UID:382-1568917800-1568917800@nocoimrg.org
SUMMARY:NoCo IMRG Chapter Meeting (September)
DESCRIPTION:The Northern Colorado Indian Motorcycle Riders Group of Fort Collins is about riding\, socializing\, and having fun.  We have monthly meetings held at the Indian Motorcycle of Fort Collins dealership to talk about IMRG Chapter topics and upcoming events.  If you are not already a NoCo IMRG Chapter member and would like to learn more about us\, we invite you to attend a meeting and to connect with us. \nThis is a very important Chapter meeting to attend as the floor will be open for nominations of officers for the 2020 board. President\, Vice President\, Secretary\, Treasurer\, and Safety will be the positions that are open for nominations. \nWe will be having a guest speaker at the meeting\, Mr. Craig Stenger from Clearview Shields. He is going to come and present some information on windshields that fit the Indian motorcycle. His shop is local in Fort Collins and Craig is a Chapter member as well. \nWe hope you will come and support and have a good time. See you all there.
URL:https://nocoimrg.org/event/noco-imrg-chapter-meeting-2/
LOCATION:Indian Motorcycle of Fort Collins\, 1800 Frontage Rd\, Fort Collins\, CO\, 80525\, United States
CATEGORIES:Meeting - Chapter
END:VEVENT
BEGIN:VEVENT
DTSTART;TZID=America/Denver:20190907T093000
DTEND;TZID=America/Denver:20190907T130000
DTSTAMP:20260420T072623
CREATED:20190824T165735Z
LAST-MODIFIED:20190926T125629Z
UID:1435-1567848600-1567861200@nocoimrg.org
SUMMARY:NoCo IMRG Ride - Lookout Mountain Ride
DESCRIPTION:We are planning a ride to follow a route to the top of Lookout Mountain in Golden ( Ride is about 1 1/2 hour long).  Stop off at Buffalo Bill’s Grave (gift shop is there\, pit stop etc.). Make the stop for 20 min or so then head to Genesee Pub and BBQ not far away. Have lunch there around noon. From there make our way back. \nWe plan to meet at FIRESTONE PARK AND RIDE ( CO-119 & I25\, Exit 240) at 9:30 am with KSU at 10:00 am.  There are gas stations right there to top off before pulling in to the park and ride lot. Please come with a full tank of gas as you never know traffic and changes.  This should be a fun ride and will be a great road to take an adventure on. See you all there!
URL:https://nocoimrg.org/event/noco-imrg-lookout-mountain-ride/
LOCATION:Lookout Mountain\, 987 Lookout Mountain Rd\, Golden\, CO\, 80401\, United States
CATEGORIES:Ride - Day
END:VEVENT
BEGIN:VEVENT
DTSTART;TZID=America/Denver:20190904T183000
DTEND;TZID=America/Denver:20190904T220000
DTSTAMP:20260420T072623
CREATED:20190712T234459Z
LAST-MODIFIED:20190902T184206Z
UID:378-1567621800-1567634400@nocoimrg.org
SUMMARY:NoCo IMRG Dinner Ride
DESCRIPTION:NoCo IMRG Chapter Dinner Ride to Sol De Jalisco in Wellington \nCome out and join us for the final Dinner Ride of the season. We will be meeting at the dealership at 6:30pm with KSU at 6:45pm. We will be heading out for a nice scoot on the bikes up to Wellington to Sol de Jalisco for dinner. Rambo (Mike) Ramsey will be the road captain leading us on this evening ride and dinner. Looking forward to seeing all that can come out. \n 
URL:https://nocoimrg.org/event/dinner-ride-2/
LOCATION:Sol De Jalisco\, 3750 Cleveland Ave\, Wellington\, CO\, 80549\, United States
CATEGORIES:Ride - Dinner
END:VEVENT
BEGIN:VEVENT
DTSTART;TZID=America/Denver:20190903T183000
DTEND;TZID=America/Denver:20190903T183000
DTSTAMP:20260420T072623
CREATED:20190713T000500Z
LAST-MODIFIED:20190713T000500Z
UID:380-1567535400-1567535400@nocoimrg.org
SUMMARY:NoCo IMRG Board Meeting (September)
DESCRIPTION:
URL:https://nocoimrg.org/event/noco-imrg-board-meeting-2/
LOCATION:TBD
CATEGORIES:Meeting - Board
END:VEVENT
BEGIN:VEVENT
DTSTART;TZID=America/Denver:20190825T073000
DTEND;TZID=America/Denver:20190825T163000
DTSTAMP:20260420T072623
CREATED:20190816T015007Z
LAST-MODIFIED:20190816T015007Z
UID:1421-1566718200-1566750600@nocoimrg.org
SUMMARY:NoCo IMRG Mount Evans Ride
DESCRIPTION:Evans Ride (188 Miles)  \nRIDE DETAILS: \n7:30am Meet at Loves Travel Center\, Berthoud \n8:00am KSU\, head out to Idaho Springs \n10:00am Arrive McDonalds\, Idaho Springs (72 Miles) Coffee\, Rest Stop\, Food\, Gas \n10:30am KSU – head to Mt. Evans \n11:00am   Arrive Mt. Evans Gate (14 Miles) \n12:00pm Arrive Mt. Evans Summit (14 miles) \n12:30pm Head back to Mt. Evans Gate \n1:30pm Arrive Mt. Evans Gate (14 Miles) \n2:15pm Arrive El Rancho Brewing Company\, Evergreen (21 Miles) for lunch\, gas \n3:30pm KSU – Head back to Frederick \n4:30pm Arrive Conoco Gas – CO-52 & I-25\, Frederick (53 Miles). End of ride \nThere is a $3.00 charge for going up to the summit unless you have a national park pass. \nPlease go to the Facebook site and in the comment\, section put a name or note so that the road captain can get a tentative head count to put in a reservation for lunch.
URL:https://nocoimrg.org/event/mount-evans-ride/
LOCATION:Mount Evans Peak\, CO\, United States
CATEGORIES:Ride - Day
END:VEVENT
BEGIN:VEVENT
DTSTART;TZID=America/Denver:20190824T080000
DTEND;TZID=America/Denver:20190824T150000
DTSTAMP:20260420T072623
CREATED:20190801T232908Z
LAST-MODIFIED:20190801T232908Z
UID:1267-1566633600-1566658800@nocoimrg.org
SUMMARY:The Colorado Women’s Ride and World Record Parade Attempt
DESCRIPTION:This event is to attempt the woman’s world record as having the most women riders on a ride.  The event has a meet time of 8am at High Country Harley Davidson (3761 Monarch St. Fredrick\, CO). \nThe start of the parade event will be 10am.  Please go to Eventbrite.com and preregister.  (August 20th is the last day to pre-register online). \nAlso\, there is information with the parade route (54 miles long) and itinerary at missbubblesproductions.com \nRegistration fee is $25.00 (Proceeds will be donated to FIREFLY/Autism) \n*Our Lady Chapter members will meet at the KUM & GO on Highway 52 just east of the dealership at 8:00am.
URL:https://nocoimrg.org/event/the-colorado-womens-ride-and-world-record-parade-attempt/
LOCATION:High Country Harley Davidson\, 3761 Monarch St\, Frederick\, CO\, 80516\, United States
CATEGORIES:Non-Chapter Event
END:VEVENT
BEGIN:VEVENT
DTSTART;VALUE=DATE:20190824
DTEND;VALUE=DATE:20190826
DTSTAMP:20260420T072623
CREATED:20190801T234352Z
LAST-MODIFIED:20190801T234352Z
UID:1270-1566604800-1566777599@nocoimrg.org
SUMMARY:Rumble in the Rockies Motorcycle Training & Skills Competition
DESCRIPTION:This is a police skills competition that will be held at the Douglas County Sheriffs EVOC Park. This event is held once a year for motor officers to compete for a “top gun” type award. It is amazing to watch what they can do in cone patterns as they ride for time. As more details are brought to our attention\, we will pass them on.
URL:https://nocoimrg.org/event/rumble-in-the-rockies-motorcycle-training-skills-competition/
LOCATION:Douglas County EVOC\, 8500 North Moore Rd\, Littleton\, CO\, United States
CATEGORIES:Non-Chapter Event
END:VEVENT
BEGIN:VEVENT
DTSTART;VALUE=DATE:20190818
DTEND;VALUE=DATE:20190819
DTSTAMP:20260420T072623
CREATED:20190801T232220Z
LAST-MODIFIED:20190801T232220Z
UID:1264-1566086400-1566172799@nocoimrg.org
SUMMARY:Motorcycle Operator Safety Training (MOST)
DESCRIPTION:Colorado State Patrol will be doing an event at Bandimere Speedway. We will post details as they come available.
URL:https://nocoimrg.org/event/motorcycle-operator-safety-training-most/
LOCATION:Bandimere Speedway\, 3051 South Rooney Road\, Morrison\, CO\, 80465\, United States
CATEGORIES:Non-Chapter Event
END:VEVENT
BEGIN:VEVENT
DTSTART;TZID=America/Denver:20190815T183000
DTEND;TZID=America/Denver:20190815T183000
DTSTAMP:20260420T072623
CREATED:20190712T233758Z
LAST-MODIFIED:20190712T233758Z
UID:372-1565893800-1565893800@nocoimrg.org
SUMMARY:NoCo IMRG Chapter Meeting (August)
DESCRIPTION:The Northern Colorado Indian Motorcycle Riders Group of Fort Collins is about riding\, socializing\, and having fun.  We have monthly meetings held at the Indian Motorcycle of Fort Collins dealership to talk about IMRG Chapter topics and upcoming events.  If you are not already a NoCo IMRG Chapter member and would like to learn more about us\, we invite you to attend a meeting and to connect with us.
URL:https://nocoimrg.org/event/noco-imrg-chapter-meeting/
LOCATION:Indian Motorcycle of Fort Collins\, 1800 Frontage Rd\, Fort Collins\, CO\, 80525\, United States
CATEGORIES:Meeting - Chapter
END:VEVENT
BEGIN:VEVENT
DTSTART;TZID=America/Denver:20190813T183000
DTEND;TZID=America/Denver:20190813T183000
DTSTAMP:20260420T072623
CREATED:20190712T233516Z
LAST-MODIFIED:20190712T233516Z
UID:370-1565721000-1565721000@nocoimrg.org
SUMMARY:NoCo IMRG Board Meeting (August)
DESCRIPTION:
URL:https://nocoimrg.org/event/noco-imrg-board-meeting/
LOCATION:Indian Motorcycle of Fort Collins\, 1800 Frontage Rd\, Fort Collins\, CO\, 80525\, United States
CATEGORIES:Meeting - Board
END:VEVENT
BEGIN:VEVENT
DTSTART;TZID=America/Denver:20190803T083000
DTEND;TZID=America/Denver:20190803T083000
DTSTAMP:20260420T072623
CREATED:20190712T230525Z
LAST-MODIFIED:20190712T230525Z
UID:365-1564821000-1564821000@nocoimrg.org
SUMMARY:NoCo IMRG "The Gathering of Bikes" Breakfast Ride
DESCRIPTION:Gathering of the Bikes Breakfast ride for those not going to Sturgis that day.  Come join in some fun and have a short ride with a breakfast stop. This ride will be meeting at 8:30 at Indian of Fort Collins and KSU (Kick Stands Up) at 9:00 am. Plan to have breakfast at The Ever Open Café on North College. This breakfast will be followed by a putt up around Horsetooth to Masonville on to Stove Prairie over to Poudre Canyon ending the ride at Verns. \nRambo is the lead Road Captain for this ride.
URL:https://nocoimrg.org/event/the-gathering-of-bikes-breakfast-ride/
LOCATION:Ever Open Cafe\, 1422 N College Ave\, Fort Collins\, CO\, 80525\, United States
CATEGORIES:Ride - Day
END:VEVENT
BEGIN:VEVENT
DTSTART;VALUE=DATE:20190802
DTEND;VALUE=DATE:20190812
DTSTAMP:20260420T072623
CREATED:20190712T233020Z
LAST-MODIFIED:20190712T233020Z
UID:367-1564704000-1565567999@nocoimrg.org
SUMMARY:Sturgis Motorcycle Rally
DESCRIPTION:
URL:https://nocoimrg.org/event/sturgis-rally/
LOCATION:Sturgis\, South Dakota\, Sturgis\, SD\, 57785\, United States
CATEGORIES:Non-Chapter Event
END:VEVENT
BEGIN:VEVENT
DTSTART;TZID=America/Denver:20190727T073000
DTEND;TZID=America/Denver:20190728T235900
DTSTAMP:20260420T072623
CREATED:20190704T005335Z
LAST-MODIFIED:20190704T005335Z
UID:167-1564212600-1564358340@nocoimrg.org
SUMMARY:NoCo IMRG Cripple Creek / Pikes Peak Ride ***IMPORTANT UPDATE***
DESCRIPTION:Cripple Creek / Pikes Peak UPDATE: It has come to our attention while planning this trip that the summit at Pikes Peak is under construction. When you arrive they are transporting people up to the summit via shuttle buses. We have found we will not be able to RIDE our motorcycles to the summit. Since we planned this portion of the trip based on getting to ride to the top and we are unable to do this\, it has been decided that we will NOT be doing the Pikes Peak portion at all. It is disappointing\, however we are still planning to go ahead with the overnight trip at Cripple Creek. The road captains are continuing to plan a scenic ride down on Saturday and back on Sunday. As always\, there will be fun\, socializing and of course the ride! We will still meet at Loves Truck Stop on Saturday morning at 7:30am as planned. We look forward to seeing you all there. \n—————————————— \n  \nIf you have not booked your room\, there is still time! I have gotten word that the first hotel we put out is completely booked. Members have had luck and continue to find rooms at Midnight Rose and McGill’s Casino and their number is 719-689-0303. \nThis ride will be meeting at the Loves Truck Stop on I25 and Highway 56 at 7:30 am with Kickstands Up at 8:00 am Saturday July 27th. Please top off your gas tank and be prepared to hear the briefing at 7:45am. \nWe need to hear from you if you are not listed on the Names list below: \n*** We would like to get a complete list of participant riders going on the Cripple Creek ride. We want to make a lunch reservation for the route down and make sure we are not leaving anyone behind when we leave out on this trip. Paul and Dawn Carroll will be the lead and sweep road officers for this ride. Please email Dawn at carrollds@comcast.net and let them know you are indeed going if you are not listed below. If you are listed below and NOT going\, please email and let them know you are not attending ****
URL:https://nocoimrg.org/event/cripple-creek-pikes-peak-ride/
LOCATION:Cripple Creek\, Cripple Creek\, CO\, 80813\, United States
CATEGORIES:Ride - Overnight
END:VEVENT
BEGIN:VEVENT
DTSTART;VALUE=DATE:20190719
DTEND;VALUE=DATE:20190721
DTSTAMP:20260420T072623
CREATED:20190711T005355Z
LAST-MODIFIED:20190711T005355Z
UID:227-1563494400-1563667199@nocoimrg.org
SUMMARY:Indian Motorcycle of Fort Collins DEMO DAYS
DESCRIPTION:Indian Motorcycle of Fort Collins Demo Days July 2019 Route \n  \nThe Demo Truck is coming back to Indian Motorcycle of Fort Collins July 19th & 20th. Come ride any of the 2019 Indian Motorcycles Lineup! If you demo ride on the 20th\, have some lunch on Indian Motorcycle of Fort Collins!  Members of the NoCo IMRG will be leading and sweeping the Demo Rides. \nIndian Motorcycle of Fort Collins Summer Demo Event (Facebook)
URL:https://nocoimrg.org/event/indian-motorcycle-of-fort-collins-demo-days/
LOCATION:Indian Motorcycle of Fort Collins\, 1800 Frontage Rd\, Fort Collins\, CO\, 80525\, United States
CATEGORIES:Dealership Event
END:VEVENT
BEGIN:VEVENT
DTSTART;TZID=America/Denver:20190718T183000
DTEND;TZID=America/Denver:20190718T183000
DTSTAMP:20260420T072623
CREATED:20190704T005036Z
LAST-MODIFIED:20190704T005036Z
UID:165-1563474600-1563474600@nocoimrg.org
SUMMARY:NoCo IMRG Chapter Meeting (IMRG Chapter Birthday)
DESCRIPTION:This will be held at the Indian Motorcycle of Fort Collins dealership. Meeting will start at 6:30 pm. Come join us to learn all that is happening in the chapter\, socialize and be ready to CELEBRATE and have a grand time. (hint hint… it’s our Chapter BIRTHDAY!!!)
URL:https://nocoimrg.org/event/imrg-member-meeting-2/
LOCATION:Indian Motorcycle of Fort Collins\, 1800 Frontage Rd\, Fort Collins\, CO\, 80525\, United States
CATEGORIES:Meeting - Chapter
END:VEVENT
BEGIN:VEVENT
DTSTART;TZID=America/Denver:20190709T183000
DTEND;TZID=America/Denver:20190709T213000
DTSTAMP:20260420T072623
CREATED:20190709T224442Z
LAST-MODIFIED:20190709T224442Z
UID:730-1562697000-1562707800@nocoimrg.org
SUMMARY:NoCo IMRG Board Meeting
DESCRIPTION:
URL:https://nocoimrg.org/event/noco-imrg-board-meeting-6/
LOCATION:TBD
END:VEVENT
BEGIN:VEVENT
DTSTART;TZID=America/Denver:20190702T063000
DTEND;TZID=America/Denver:20190702T063000
DTSTAMP:20260420T072623
CREATED:20190704T002645Z
LAST-MODIFIED:20190704T002645Z
UID:163-1562049000-1562049000@nocoimrg.org
SUMMARY:Dinner Ride
DESCRIPTION:
URL:https://nocoimrg.org/event/dinner-ride/
LOCATION:Indian Motorcycle of Fort Collins\, 1800 Frontage Rd\, Fort Collins\, CO\, 80525\, United States
CATEGORIES:Ride - Dinner
END:VEVENT
BEGIN:VEVENT
DTSTART;TZID=America/Denver:20190601T100000
DTEND;TZID=America/Denver:20190601T100000
DTSTAMP:20260420T072623
CREATED:20190704T012830Z
LAST-MODIFIED:20240709T123613Z
UID:174-1559383200-1559383200@nocoimrg.org
SUMMARY:Peak-to-Peak Ride
DESCRIPTION:We will meet at the Indian Motorcycle of Fort Collins dealership\, then head out on our ride of the Peak-to-Peak Highway. The ride will end at Oskar Blues restaurant for a late lunch.
URL:https://nocoimrg.org/event/peak-to-peak-ride/
LOCATION:Oskar Blues (Longmont)\, 1555 S. Hover Road\, Longmont\, CO\, 80501\, United States
CATEGORIES:Ride - Day
END:VEVENT
END:VCALENDAR