BEGIN:VCALENDAR
VERSION:2.0
PRODID:-//Northern Colorado IMRG - ECPv6.15.17//NONSGML v1.0//EN
CALSCALE:GREGORIAN
METHOD:PUBLISH
X-WR-CALNAME:Northern Colorado IMRG
X-ORIGINAL-URL:https://nocoimrg.org
X-WR-CALDESC:Events for Northern Colorado IMRG
REFRESH-INTERVAL;VALUE=DURATION:PT1H
X-Robots-Tag:noindex
X-PUBLISHED-TTL:PT1H
BEGIN:VTIMEZONE
TZID:America/Denver
BEGIN:DAYLIGHT
TZOFFSETFROM:-0700
TZOFFSETTO:-0600
TZNAME:MDT
DTSTART:20220313T090000
END:DAYLIGHT
BEGIN:STANDARD
TZOFFSETFROM:-0600
TZOFFSETTO:-0700
TZNAME:MST
DTSTART:20221106T080000
END:STANDARD
BEGIN:DAYLIGHT
TZOFFSETFROM:-0700
TZOFFSETTO:-0600
TZNAME:MDT
DTSTART:20230312T090000
END:DAYLIGHT
BEGIN:STANDARD
TZOFFSETFROM:-0600
TZOFFSETTO:-0700
TZNAME:MST
DTSTART:20231105T080000
END:STANDARD
BEGIN:DAYLIGHT
TZOFFSETFROM:-0700
TZOFFSETTO:-0600
TZNAME:MDT
DTSTART:20240310T090000
END:DAYLIGHT
BEGIN:STANDARD
TZOFFSETFROM:-0600
TZOFFSETTO:-0700
TZNAME:MST
DTSTART:20241103T080000
END:STANDARD
END:VTIMEZONE
BEGIN:VEVENT
DTSTART;VALUE=DATE:20230902
DTEND;VALUE=DATE:20230906
DTSTAMP:20260419T155914
CREATED:20230505T161122Z
LAST-MODIFIED:20230810T144032Z
UID:9463-1693612800-1693958399@nocoimrg.org
SUMMARY:NoCo IMRG Thermopolis Multi-Nighter Ride
DESCRIPTION:Northern Colorado IMRG Thermopolis Multi-Nighter Chapter Ride \nItinerary \nHere’s the scoop on our Thermopolis Grand Adventure Road Trip.  This is a four (4) day\, three (3) night\, and 1\,080 mile excursion.  Adventure starts on Saturday September 2nd\, ending Tuesday September 5th.  Below is an outline of our starting and ending points for each day. \nThe recommended hotel to stay for the night is listed along with the website of the hotel. You can stay at the listed hotel\, or another of your choosing. You should book your hotel room as soon as possible. \nDay 1 Saturday September 2nd \n\n Meet at Ted’s Place (gas station located at Hwy 287 & Hwy 14; 6511 US-287 Laporte\, CO) @7:30am (KSU 8:00am)\n\n\nLaporte\, CO to Thermopolis\, WY.  343 miles\, 7 hours.  NO INTERSTATE RIDING.\n\n\nSpend night in Thermopolis\, WY.  Preferred hotel:\n\nHot Springs Hotel & Spa \n115 E Park Street \nHot Springs State Park \nThermopolis\, WY 82443 \nthermopolisdaysinn.com \n307-864-3131 \n** We will stay overnight in Thermopolis on Saturday 9/2\, and Monday 9/4.  Be sure to make your reservation for these two non-consecutive nights.  Our Sunday night will be in Red Lodge\, MT. \nFree breakfast\, great restaurant\, and bar on site. \nDay 2 Sunday September 3rd \n\nKSU 9:00am\n\n\nThermopolis to Red Lodge\, MT.  200 miles.  We have all day and will make extra stops per request.\n\n\nSpend night in Red Lodge\, MT.  Preferred hotel:\n\nQuality Inn Red Lodge Gateway to Yellowstone \n612 Broadway Ave N \nRed Lodge\, MT 59068 \nchoicehotels.com/montana/red-lodge/quality-inn-hotels \n406-446-4469 \nFree breakfast.  Dinner in walking distance. \n  \nDay 3 Monday September 4th \n\nKSU 9:00am\n\n\nRed Lodge\, MT back to Thermopolis\, WY.  200 miles.  Extra stops per request.\n\n\nSpend night in Thermopolis\, WY.  Preferred hotel:\n\nHot Springs Hotel & Spa \n115 E Park Street \nHot Springs State Park \nThermopolis\, WY 82443 \nthermopolisdaysinn.com \n307-864-3131 \n** We will stay overnight in Thermopolis on Saturday 9/2\, and Monday 9/4.  Be sure to make your reservation for these two non-consecutive nights.  Our Sunday night will be in Red Lodge\, MT. \nFree breakfast\, great restaurant\, and bar on site. \n  \nDay 4 Tuesday September 5th \n\nKSU 8:00am\n\n\nThermopolis\, WY to Laporte\, CO (back home). 343 miles.  Ride will end at Ted’s Place.\n\n  \nHotel Rooms are $140 to $200 per night. \nMark will Lead this ride with Randall as Sweep. \nThis ride is classified as a Level 5 (1-easiest\, 5-hardest) for winding mountain roads\, switch backs\, ride duration\, wind. \nRide. Seek. Explore. \n  \nGoing on NoCo IMRG Group Motorcycle Rides \n \nAbout Northern Colorado IMRG \n \n  \n\n 
URL:https://nocoimrg.org/event/noco-imrg-thermopolis-multi-nighter-ride/
LOCATION:Thermopolis\, WY\, Thermopolis\, WY\, United States
CATEGORIES:Ride - Multi-Night
END:VEVENT
END:VCALENDAR