BEGIN:VCALENDAR
VERSION:2.0
PRODID:-//Northern Colorado IMRG - ECPv6.15.17//NONSGML v1.0//EN
CALSCALE:GREGORIAN
METHOD:PUBLISH
X-WR-CALNAME:Northern Colorado IMRG
X-ORIGINAL-URL:https://nocoimrg.org
X-WR-CALDESC:Events for Northern Colorado IMRG
REFRESH-INTERVAL;VALUE=DURATION:PT1H
X-Robots-Tag:noindex
X-PUBLISHED-TTL:PT1H
BEGIN:VTIMEZONE
TZID:America/Denver
BEGIN:DAYLIGHT
TZOFFSETFROM:-0700
TZOFFSETTO:-0600
TZNAME:MDT
DTSTART:20210314T090000
END:DAYLIGHT
BEGIN:STANDARD
TZOFFSETFROM:-0600
TZOFFSETTO:-0700
TZNAME:MST
DTSTART:20211107T080000
END:STANDARD
BEGIN:DAYLIGHT
TZOFFSETFROM:-0700
TZOFFSETTO:-0600
TZNAME:MDT
DTSTART:20220313T090000
END:DAYLIGHT
BEGIN:STANDARD
TZOFFSETFROM:-0600
TZOFFSETTO:-0700
TZNAME:MST
DTSTART:20221106T080000
END:STANDARD
BEGIN:DAYLIGHT
TZOFFSETFROM:-0700
TZOFFSETTO:-0600
TZNAME:MDT
DTSTART:20230312T090000
END:DAYLIGHT
BEGIN:STANDARD
TZOFFSETFROM:-0600
TZOFFSETTO:-0700
TZNAME:MST
DTSTART:20231105T080000
END:STANDARD
END:VTIMEZONE
BEGIN:VEVENT
DTSTART;VALUE=DATE:20220614
DTEND;VALUE=DATE:20220620
DTSTAMP:20260420T185424
CREATED:20211101T123710Z
LAST-MODIFIED:20220610T200853Z
UID:6942-1655164800-1655683199@nocoimrg.org
SUMMARY:NoCo IMRG Ride to Durango Rendezvous (2022)
DESCRIPTION:Northern Colorado IMRG Ride to Durango Rendezvous (2022) \nThe Durango Rendezvous has returned. The NoCo IMRG chapter will ride to the Durango Rendezvous as a Chapter. \nOn Tue\, Jun 14th\, we will meet at Love’s Travel Stop in Berthoud (I-25 and 3800 CO-56\, Berthoud\, CO) and travel to Durango\, CO. Meet up at 8:00 a.m. and kickstands up at 8:30. We plan to return Sun\, Jun 19th. \n\n6/14 – Travel day to Sky Ute Casino\, Durango\, CO\n6/15 – Chapter Ride & Rendezvous Check-In (5:00-10:00 p.m.)\n6/16 – Chapter Ride & Durango Banquet (5:00-10:00 p.m.)\n6/17 – Chapter Ride & Bar-D Chuckwagon Dinner and Show (4:30-10:00 p.m.\n6/18 – Indian Motor Works (9:30 a.m.)\n6/19 – Travel day to return home\n\nEvent information at: DurangoRendezvous.com \nFor more information on preparing for our NoCo IMRG group rides and skills training events\, click the link below: \nGoing on NoCo IMRG Group Motorcycle Rides \nThe Northern Colorado Indian Motorcycle Riders Group of Fort Collins is about riding\, socializing\, and having fun. If you are not already a NoCo IMRG Chapter member and would like to learn more about us\, we invite you to attend a meeting and to connect with us.
URL:https://nocoimrg.org/event/durango-rendezvous-2022/
LOCATION:Sky Ute Casino Resort\, 14324 Hwy 172\, Ignacio\, CO\, 81122\, United States
CATEGORIES:Ride - Multi-Night
ATTACH;FMTTYPE=image/jpeg:https://nocoimrg.org/wp-content/uploads/2021/11/durango2.jpg
END:VEVENT
END:VCALENDAR