BEGIN:VCALENDAR
VERSION:2.0
PRODID:-//Northern Colorado IMRG - ECPv6.15.17//NONSGML v1.0//EN
CALSCALE:GREGORIAN
METHOD:PUBLISH
X-ORIGINAL-URL:https://nocoimrg.org
X-WR-CALDESC:Events for Northern Colorado IMRG
REFRESH-INTERVAL;VALUE=DURATION:PT1H
X-Robots-Tag:noindex
X-PUBLISHED-TTL:PT1H
BEGIN:VTIMEZONE
TZID:America/Denver
BEGIN:DAYLIGHT
TZOFFSETFROM:-0700
TZOFFSETTO:-0600
TZNAME:MDT
DTSTART:20200308T090000
END:DAYLIGHT
BEGIN:STANDARD
TZOFFSETFROM:-0600
TZOFFSETTO:-0700
TZNAME:MST
DTSTART:20201101T080000
END:STANDARD
BEGIN:DAYLIGHT
TZOFFSETFROM:-0700
TZOFFSETTO:-0600
TZNAME:MDT
DTSTART:20210314T090000
END:DAYLIGHT
BEGIN:STANDARD
TZOFFSETFROM:-0600
TZOFFSETTO:-0700
TZNAME:MST
DTSTART:20211107T080000
END:STANDARD
BEGIN:DAYLIGHT
TZOFFSETFROM:-0700
TZOFFSETTO:-0600
TZNAME:MDT
DTSTART:20220313T090000
END:DAYLIGHT
BEGIN:STANDARD
TZOFFSETFROM:-0600
TZOFFSETTO:-0700
TZNAME:MST
DTSTART:20221106T080000
END:STANDARD
END:VTIMEZONE
BEGIN:VEVENT
DTSTART;TZID=America/Denver:20211231T233000
DTEND;TZID=America/Denver:20211231T233000
DTSTAMP:20260424T000944
CREATED:20210330T014317Z
LAST-MODIFIED:20211130T142317Z
UID:5252-1640993400-1640993400@nocoimrg.org
SUMMARY:NoCo IMRG - Changing of the Year Ride
DESCRIPTION:NoCo IMRG – Changing of the Year Ride \n\nThis will be the LAST official Chapter ride for 2021\, and the FIRST official Chapter ride for 2022 as we bring in the New Year in the saddles of our motorcycles.\n\n\n\nThis is a great way to leave 2021 behind and appease the motorcycle gods to bring us luck in 2022.\n\n\nWe will be meeting at Loves on I25 in Berthoud at 11:30pm. We will warm up there and then take a short scoot on back roads for our ride. We will be on bikes riding as the year ends and the new year begins. We will monitor temperatures and road conditions if it is needed. This has been a fun time even though it has been cold. We hope to see you there so plan to do this annual event.\n\n\n\nGoing on Group Motorcycle Rides with NoCo IMRG
URL:https://nocoimrg.org/event/noco-imrg-changing-of-the-year-ride-2/
LOCATION:Love’s Travel Stop – Berthoud\, 3800 CO-56\, Berthoud\, CO\, 80513
CATEGORIES:Ride - Evening
ATTACH;FMTTYPE=image/jpeg:https://nocoimrg.org/wp-content/uploads/2020/01/changing-of-the-year-ride-2.jpg
END:VEVENT
END:VCALENDAR