BEGIN:VCALENDAR
VERSION:2.0
PRODID:-//Northern Colorado IMRG - ECPv6.15.17//NONSGML v1.0//EN
CALSCALE:GREGORIAN
METHOD:PUBLISH
X-ORIGINAL-URL:https://nocoimrg.org
X-WR-CALDESC:Events for Northern Colorado IMRG
REFRESH-INTERVAL;VALUE=DURATION:PT1H
X-Robots-Tag:noindex
X-PUBLISHED-TTL:PT1H
BEGIN:VTIMEZONE
TZID:America/Denver
BEGIN:DAYLIGHT
TZOFFSETFROM:-0700
TZOFFSETTO:-0600
TZNAME:MDT
DTSTART:20230312T090000
END:DAYLIGHT
BEGIN:STANDARD
TZOFFSETFROM:-0600
TZOFFSETTO:-0700
TZNAME:MST
DTSTART:20231105T080000
END:STANDARD
BEGIN:DAYLIGHT
TZOFFSETFROM:-0700
TZOFFSETTO:-0600
TZNAME:MDT
DTSTART:20240310T090000
END:DAYLIGHT
BEGIN:STANDARD
TZOFFSETFROM:-0600
TZOFFSETTO:-0700
TZNAME:MST
DTSTART:20241103T080000
END:STANDARD
BEGIN:DAYLIGHT
TZOFFSETFROM:-0700
TZOFFSETTO:-0600
TZNAME:MDT
DTSTART:20250309T090000
END:DAYLIGHT
BEGIN:STANDARD
TZOFFSETFROM:-0600
TZOFFSETTO:-0700
TZNAME:MST
DTSTART:20251102T080000
END:STANDARD
BEGIN:DAYLIGHT
TZOFFSETFROM:-0700
TZOFFSETTO:-0600
TZNAME:MDT
DTSTART:20260308T090000
END:DAYLIGHT
BEGIN:STANDARD
TZOFFSETFROM:-0600
TZOFFSETTO:-0700
TZNAME:MST
DTSTART:20261101T080000
END:STANDARD
BEGIN:DAYLIGHT
TZOFFSETFROM:-0700
TZOFFSETTO:-0600
TZNAME:MDT
DTSTART:20270314T090000
END:DAYLIGHT
BEGIN:STANDARD
TZOFFSETFROM:-0600
TZOFFSETTO:-0700
TZNAME:MST
DTSTART:20271107T080000
END:STANDARD
END:VTIMEZONE
BEGIN:VEVENT
DTSTART;TZID=America/Denver:20240615T093000
DTEND;TZID=America/Denver:20240615T093000
DTSTAMP:20260423T000346
CREATED:20240312T010804Z
LAST-MODIFIED:20240526T235920Z
UID:11466-1718443800-1718443800@nocoimrg.org
SUMMARY:NoCo IMRG Chapter Meeting (June) & Post Meeting Ride
DESCRIPTION:Northern Colorado IMRG Chapter Meeting (June) & Post Meeting Ride\nMark your calendars for our monthly Chapter meeting at 9:30 a.m. at Indian Motorcycle of Fort Collins.  It’s the perfect chance to catch up with fellow riders\, swap stories\, and extend a warm welcome to those who you may not have seen for a while. \nCome ready to ride! After the meeting\, we’ll be heading out on a group adventure to Kersey for lunch at Kersey Pizza.  This will be a flatlander ride rated at a Level 1 (1=easiest\, 5=hardest) on back county roads for about 35 miles.  So\, fire up your engine and get ready for a fun-filled morning of camaraderie followed by an afternoon exploring back roads together! \n  \nThe Northern Colorado Indian Motorcycle Riders Group of Fort Collins is about riding\, socializing\, and having fun. We have monthly meetings (every 3rd Saturday of the Month) held at the Indian Motorcycle of Fort Collins dealership to talk about IMRG Chapter topics and upcoming events. If you are not already a NoCo IMRG Chapter member and would like to learn more about us\, we invite you to attend a meeting and to connect with us and find out what we are all about. \n  \nGoing on NoCo IMRG Group Motorcycle Rides \n \nAbout Northern Colorado IMRG
URL:https://nocoimrg.org/event/noco-imrg-chapter-meeting-june-post-meeting-ride/
LOCATION:Indian Motorcycle of Fort Collins\, 1800 Frontage Rd\, Fort Collins\, CO\, 80525\, United States
CATEGORIES:Meeting - Chapter,Ride - After Meeting
END:VEVENT
BEGIN:VEVENT
DTSTART;TZID=America/Denver:20240720T093000
DTEND;TZID=America/Denver:20240720T093000
DTSTAMP:20260423T000346
CREATED:20240317T133719Z
LAST-MODIFIED:20240317T133719Z
UID:11492-1721467800-1721467800@nocoimrg.org
SUMMARY:NoCo IMRG Chapter Meeting (July) & Post Meeting Ride
DESCRIPTION:Northern Colorado IMRG Chapter Meeting & Post Meeting Ride \n  \nChapter meeting @9:30 a.m. at the Dealership. \nWe will do a post-meeting ride (TBD) \n  \nThe Northern Colorado Indian Motorcycle Riders Group of Fort Collins is about riding\, socializing\, and having fun. We have monthly meetings (every 3rd Saturday of the Month) held at the Indian Motorcycle of Fort Collins dealership to talk about IMRG Chapter topics and upcoming events. If you are not already a NoCo IMRG Chapter member and would like to learn more about us\, we invite you to attend a meeting and to connect with us and find out what we are all about. \n  \nGoing on NoCo IMRG Group Motorcycle Rides \n \nAbout Northern Colorado IMRG
URL:https://nocoimrg.org/event/noco-imrg-chapter-meeting-july-post-meeting-ride/
LOCATION:Indian Motorcycle of Fort Collins\, 1800 Frontage Rd\, Fort Collins\, CO\, 80525\, United States
CATEGORIES:Meeting - Chapter,Ride - After Meeting
END:VEVENT
BEGIN:VEVENT
DTSTART;TZID=America/Denver:20240928T093000
DTEND;TZID=America/Denver:20240928T093000
DTSTAMP:20260423T000346
CREATED:20240331T221052Z
LAST-MODIFIED:20240927T132337Z
UID:11539-1727515800-1727515800@nocoimrg.org
SUMMARY:NoCo IMRG Chapter Meet & Post Ride
DESCRIPTION:Northern Colorado IMRG Chapter Meeting and Post Meeting Ride \n  \nThis month’s (September) meeting is the 4th Saturday instead of the usual 3rd Saturday. \n  \nAfter the meeting\, join us for a group ride.  We will take a scenic ride across Rist Canyon and up Stove Prairie Rd.  Then on Poudre Canyon to The Mishawaka for lunch. \n\nSo\, come on out for a fantastic morning of camaraderie\, scenic ride\, and lunch. \nPost Meeting Ride\nThis will be about a 45 mile ride to Mishawaka.  This ride is rated at Level 4 (0=easiest\, 5=hardest) with lots of curves as we travel into the foothills. \n  \nGoing on NoCo IMRG Group Motorcycle Rides \n \nAbout Northern Colorado IMRG
URL:https://nocoimrg.org/event/noco-imrg-chapter-meet-post-ride/
LOCATION:Indian Motorcycle of Fort Collins\, 1800 Frontage Rd\, Fort Collins\, CO\, 80525\, United States
CATEGORIES:Meeting - Chapter,Ride - After Meeting
END:VEVENT
BEGIN:VEVENT
DTSTART;TZID=America/Denver:20250621T093000
DTEND;TZID=America/Denver:20250621T213000
DTSTAMP:20260423T000346
CREATED:20250216T221500Z
LAST-MODIFIED:20250412T154652Z
UID:12716-1750498200-1750541400@nocoimrg.org
SUMMARY:NoCo IMRG Chapter Meeting (Jun) & Post Meeting Ride
DESCRIPTION:Northern Colorado IMRG Chapter Meeting \n  \nOur regular monthlyl chapter meeting\, followed by a group ride. \n  \nThe Northern Colorado Indian Motorcycle Riders Group of Fort Collins is about riding\, socializing\, and having fun. We have monthly meetings (every 3rd Saturday of the Month) held at the Indian Motorcycle of Fort Collins dealership to talk about IMRG Chapter topics and upcoming events. If you are not already a NoCo IMRG Chapter member and would like to learn more about us\, we invite you to attend a meeting and to connect with us and find out what we are all about. \n  \nAbout Northern Colorado IMRG
URL:https://nocoimrg.org/event/noco-imrg-chapter-meeting-jun/
CATEGORIES:Meeting - Chapter,Ride - After Meeting
END:VEVENT
BEGIN:VEVENT
DTSTART;TZID=America/Denver:20260418T093000
DTEND;TZID=America/Denver:20260418T093000
DTSTAMP:20260423T000346
CREATED:20260115T023058Z
LAST-MODIFIED:20260216T230010Z
UID:13978-1776504600-1776504600@nocoimrg.org
SUMMARY:NoCo IMRG Chapter Meeting (Apr) & Post Meeting Ride
DESCRIPTION:Northern Colorado IMRG Chapter Meeting \nOur regular monthly chapter meeting followed by a group ride. \nThe Northern Colorado Indian Motorcycle Riders Group of Fort Collins is about riding\, socializing\, and having fun. We have monthly meetings (every 3rd Saturday of the Month) held at the Indian Motorcycle of Fort Collins dealership to talk about IMRG Chapter topics and upcoming events. If you are not already a NoCo IMRG Chapter member and would like to learn more about us\, we invite you to attend a meeting and to connect with us and find out what we are all about. \nAbout Northern Colorado IMRG
URL:https://nocoimrg.org/event/noco-imrg-chapter-meeting-apr-2/
LOCATION:Indian Motorcycle of Fort Collins\, 1800 Frontage Rd\, Fort Collins\, CO\, 80525\, United States
CATEGORIES:Meeting - Chapter,Ride - After Meeting
END:VEVENT
BEGIN:VEVENT
DTSTART;TZID=America/Denver:20260718T093000
DTEND;TZID=America/Denver:20260718T093000
DTSTAMP:20260423T000346
CREATED:20260115T232512Z
LAST-MODIFIED:20260222T133423Z
UID:13992-1784367000-1784367000@nocoimrg.org
SUMMARY:NoCo IMRG Chapter Meeting (Jul) & Post Meeting Ride
DESCRIPTION:Northern Colorado IMRG Chapter Meeting \nOur regular monthly chapter meeting\, followed by a group ride. \nThe Northern Colorado Indian Motorcycle Riders Group of Fort Collins is about riding\, socializing\, and having fun. We have monthly meetings (every 3rd Saturday of the Month) held at the Indian Motorcycle of Fort Collins dealership to talk about IMRG Chapter topics and upcoming events. If you are not already a NoCo IMRG Chapter member and would like to learn more about us\, we invite you to attend a meeting and to connect with us and find out what we are all about. \nAbout Northern Colorado IMRG \n \nGoing on NoCo IMRG Group Motorcycle Rides
URL:https://nocoimrg.org/event/noco-imrg-chapter-meeting-jul-2/
LOCATION:Indian Motorcycle of Fort Collins\, 1800 Frontage Rd\, Fort Collins\, CO\, 80525\, United States
CATEGORIES:Meeting - Chapter,Ride - After Meeting
END:VEVENT
BEGIN:VEVENT
DTSTART;TZID=America/Denver:20260815T093000
DTEND;TZID=America/Denver:20260815T093000
DTSTAMP:20260423T000346
CREATED:20260116T001058Z
LAST-MODIFIED:20260222T133519Z
UID:13998-1786786200-1786786200@nocoimrg.org
SUMMARY:NoCo IMRG Chapter Meeting (Aug) & Post Meeting Ride
DESCRIPTION:Northern Colorado IMRG Chapter Meeting \nOur regular chapter meeting followed by a group ride. \nThe Northern Colorado Indian Motorcycle Riders Group of Fort Collins is about riding\, socializing\, and having fun. We have monthly meetings (every 3rd Saturday of the Month) held at the Indian Motorcycle of Fort Collins dealership to talk about IMRG Chapter topics and upcoming events. If you are not already a NoCo IMRG Chapter member and would like to learn more about us\, we invite you to attend a meeting and to connect with us and find out what we are all about. \nAbout Northern Colorado IMRG \n \nGoing on NoCo IMRG Group Motorcycle Rides
URL:https://nocoimrg.org/event/noco-imrg-chapter-meeting-aug-2/
LOCATION:Indian Motorcycle of Fort Collins\, 1800 Frontage Rd\, Fort Collins\, CO\, 80525\, United States
CATEGORIES:Meeting - Chapter,Ride - After Meeting
END:VEVENT
BEGIN:VEVENT
DTSTART;TZID=America/Denver:20260919T093000
DTEND;TZID=America/Denver:20260919T093000
DTSTAMP:20260423T000346
CREATED:20260116T001924Z
LAST-MODIFIED:20260222T133156Z
UID:14002-1789810200-1789810200@nocoimrg.org
SUMMARY:NoCo IMRG Chapter Meeting (Sep) & Folds of Honor Charity Ride
DESCRIPTION:Northern Colorado IMRG Chapter Meeting \nOur regular chapter meeting followed by our Folds of Honor Charity Ride \nThe Northern Colorado Indian Motorcycle Riders Group of Fort Collins is about riding\, socializing\, and having fun. We have monthly meetings (every 3rd Saturday of the Month) held at the Indian Motorcycle of Fort Collins dealership to talk about IMRG Chapter topics and upcoming events. If you are not already a NoCo IMRG Chapter member and would like to learn more about us\, we invite you to attend a meeting and to connect with us and find out what we are all about. \nAbout Northern Colorado IMRG \n \nGoing on NoCo IMRG Group Motorcycle Rides
URL:https://nocoimrg.org/event/noco-imrg-chapter-meeting-sep-2/
LOCATION:Indian Motorcycle of Fort Collins\, 1800 Frontage Rd\, Fort Collins\, CO\, 80525\, United States
CATEGORIES:Meeting - Chapter,Ride - After Meeting
END:VEVENT
BEGIN:VEVENT
DTSTART;TZID=America/Denver:20261017T093000
DTEND;TZID=America/Denver:20261017T093000
DTSTAMP:20260423T000346
CREATED:20260116T004148Z
LAST-MODIFIED:20260222T133811Z
UID:14006-1792229400-1792229400@nocoimrg.org
SUMMARY:NoCo IMRG Chapter Meeting (Oct) & Post Meeting Ride
DESCRIPTION:Northern Colorado IMRG Chapter Meeting \nOur regular chapter meeting followed by a group ride. \nThe Northern Colorado Indian Motorcycle Riders Group of Fort Collins is about riding\, socializing\, and having fun. We have monthly meetings (every 3rd Saturday of the Month) held at the Indian Motorcycle of Fort Collins dealership to talk about IMRG Chapter topics and upcoming events. If you are not already a NoCo IMRG Chapter member and would like to learn more about us\, we invite you to attend a meeting and to connect with us and find out what we are all about. \nAbout Northern Colorado IMRG \n \nGoing on NoCo IMRG Group Motorcycle Rides
URL:https://nocoimrg.org/event/noco-imrg-chapter-meeting-oct-2/
LOCATION:Indian Motorcycle of Fort Collins\, 1800 Frontage Rd\, Fort Collins\, CO\, 80525\, United States
CATEGORIES:Meeting - Chapter,Ride - After Meeting
END:VEVENT
END:VCALENDAR