BEGIN:VCALENDAR
VERSION:2.0
PRODID:-//Northern Colorado IMRG - ECPv6.15.17//NONSGML v1.0//EN
CALSCALE:GREGORIAN
METHOD:PUBLISH
X-WR-CALNAME:Northern Colorado IMRG
X-ORIGINAL-URL:https://nocoimrg.org
X-WR-CALDESC:Events for Northern Colorado IMRG
REFRESH-INTERVAL;VALUE=DURATION:PT1H
X-Robots-Tag:noindex
X-PUBLISHED-TTL:PT1H
BEGIN:VTIMEZONE
TZID:America/Denver
BEGIN:DAYLIGHT
TZOFFSETFROM:-0700
TZOFFSETTO:-0600
TZNAME:MDT
DTSTART:20230312T090000
END:DAYLIGHT
BEGIN:STANDARD
TZOFFSETFROM:-0600
TZOFFSETTO:-0700
TZNAME:MST
DTSTART:20231105T080000
END:STANDARD
BEGIN:DAYLIGHT
TZOFFSETFROM:-0700
TZOFFSETTO:-0600
TZNAME:MDT
DTSTART:20240310T090000
END:DAYLIGHT
BEGIN:STANDARD
TZOFFSETFROM:-0600
TZOFFSETTO:-0700
TZNAME:MST
DTSTART:20241103T080000
END:STANDARD
BEGIN:DAYLIGHT
TZOFFSETFROM:-0700
TZOFFSETTO:-0600
TZNAME:MDT
DTSTART:20250309T090000
END:DAYLIGHT
BEGIN:STANDARD
TZOFFSETFROM:-0600
TZOFFSETTO:-0700
TZNAME:MST
DTSTART:20251102T080000
END:STANDARD
END:VTIMEZONE
BEGIN:VEVENT
DTSTART;TZID=America/Denver:20240928T093000
DTEND;TZID=America/Denver:20240928T093000
DTSTAMP:20260420T133508
CREATED:20240331T221052Z
LAST-MODIFIED:20240927T132337Z
UID:11539-1727515800-1727515800@nocoimrg.org
SUMMARY:NoCo IMRG Chapter Meet & Post Ride
DESCRIPTION:Northern Colorado IMRG Chapter Meeting and Post Meeting Ride \n  \nThis month’s (September) meeting is the 4th Saturday instead of the usual 3rd Saturday. \n  \nAfter the meeting\, join us for a group ride.  We will take a scenic ride across Rist Canyon and up Stove Prairie Rd.  Then on Poudre Canyon to The Mishawaka for lunch. \n\nSo\, come on out for a fantastic morning of camaraderie\, scenic ride\, and lunch. \nPost Meeting Ride\nThis will be about a 45 mile ride to Mishawaka.  This ride is rated at Level 4 (0=easiest\, 5=hardest) with lots of curves as we travel into the foothills. \n  \nGoing on NoCo IMRG Group Motorcycle Rides \n \nAbout Northern Colorado IMRG
URL:https://nocoimrg.org/event/noco-imrg-chapter-meet-post-ride/
LOCATION:Indian Motorcycle of Fort Collins\, 1800 Frontage Rd\, Fort Collins\, CO\, 80525\, United States
CATEGORIES:Meeting - Chapter,Ride - After Meeting
END:VEVENT
END:VCALENDAR