BEGIN:VCALENDAR
VERSION:2.0
PRODID:-//Northern Colorado IMRG - ECPv6.15.17//NONSGML v1.0//EN
CALSCALE:GREGORIAN
METHOD:PUBLISH
X-WR-CALNAME:Northern Colorado IMRG
X-ORIGINAL-URL:https://nocoimrg.org
X-WR-CALDESC:Events for Northern Colorado IMRG
REFRESH-INTERVAL;VALUE=DURATION:PT1H
X-Robots-Tag:noindex
X-PUBLISHED-TTL:PT1H
BEGIN:VTIMEZONE
TZID:America/Denver
BEGIN:DAYLIGHT
TZOFFSETFROM:-0700
TZOFFSETTO:-0600
TZNAME:MDT
DTSTART:20230312T090000
END:DAYLIGHT
BEGIN:STANDARD
TZOFFSETFROM:-0600
TZOFFSETTO:-0700
TZNAME:MST
DTSTART:20231105T080000
END:STANDARD
BEGIN:DAYLIGHT
TZOFFSETFROM:-0700
TZOFFSETTO:-0600
TZNAME:MDT
DTSTART:20240310T090000
END:DAYLIGHT
BEGIN:STANDARD
TZOFFSETFROM:-0600
TZOFFSETTO:-0700
TZNAME:MST
DTSTART:20241103T080000
END:STANDARD
BEGIN:DAYLIGHT
TZOFFSETFROM:-0700
TZOFFSETTO:-0600
TZNAME:MDT
DTSTART:20250309T090000
END:DAYLIGHT
BEGIN:STANDARD
TZOFFSETFROM:-0600
TZOFFSETTO:-0700
TZNAME:MST
DTSTART:20251102T080000
END:STANDARD
END:VTIMEZONE
BEGIN:VEVENT
DTSTART;TZID=America/Denver:20240615T093000
DTEND;TZID=America/Denver:20240615T093000
DTSTAMP:20260420T190319
CREATED:20240312T010804Z
LAST-MODIFIED:20240526T235920Z
UID:11466-1718443800-1718443800@nocoimrg.org
SUMMARY:NoCo IMRG Chapter Meeting (June) & Post Meeting Ride
DESCRIPTION:Northern Colorado IMRG Chapter Meeting (June) & Post Meeting Ride\nMark your calendars for our monthly Chapter meeting at 9:30 a.m. at Indian Motorcycle of Fort Collins.  It’s the perfect chance to catch up with fellow riders\, swap stories\, and extend a warm welcome to those who you may not have seen for a while. \nCome ready to ride! After the meeting\, we’ll be heading out on a group adventure to Kersey for lunch at Kersey Pizza.  This will be a flatlander ride rated at a Level 1 (1=easiest\, 5=hardest) on back county roads for about 35 miles.  So\, fire up your engine and get ready for a fun-filled morning of camaraderie followed by an afternoon exploring back roads together! \n  \nThe Northern Colorado Indian Motorcycle Riders Group of Fort Collins is about riding\, socializing\, and having fun. We have monthly meetings (every 3rd Saturday of the Month) held at the Indian Motorcycle of Fort Collins dealership to talk about IMRG Chapter topics and upcoming events. If you are not already a NoCo IMRG Chapter member and would like to learn more about us\, we invite you to attend a meeting and to connect with us and find out what we are all about. \n  \nGoing on NoCo IMRG Group Motorcycle Rides \n \nAbout Northern Colorado IMRG
URL:https://nocoimrg.org/event/noco-imrg-chapter-meeting-june-post-meeting-ride/
LOCATION:Indian Motorcycle of Fort Collins\, 1800 Frontage Rd\, Fort Collins\, CO\, 80525\, United States
CATEGORIES:Meeting - Chapter,Ride - After Meeting
END:VEVENT
END:VCALENDAR