BEGIN:VCALENDAR
VERSION:2.0
PRODID:-//Northern Colorado IMRG - ECPv6.15.17//NONSGML v1.0//EN
CALSCALE:GREGORIAN
METHOD:PUBLISH
X-WR-CALNAME:Northern Colorado IMRG
X-ORIGINAL-URL:https://nocoimrg.org
X-WR-CALDESC:Events for Northern Colorado IMRG
REFRESH-INTERVAL;VALUE=DURATION:PT1H
X-Robots-Tag:noindex
X-PUBLISHED-TTL:PT1H
BEGIN:VTIMEZONE
TZID:America/Denver
BEGIN:DAYLIGHT
TZOFFSETFROM:-0700
TZOFFSETTO:-0600
TZNAME:MDT
DTSTART:20210314T090000
END:DAYLIGHT
BEGIN:STANDARD
TZOFFSETFROM:-0600
TZOFFSETTO:-0700
TZNAME:MST
DTSTART:20211107T080000
END:STANDARD
BEGIN:DAYLIGHT
TZOFFSETFROM:-0700
TZOFFSETTO:-0600
TZNAME:MDT
DTSTART:20220313T090000
END:DAYLIGHT
BEGIN:STANDARD
TZOFFSETFROM:-0600
TZOFFSETTO:-0700
TZNAME:MST
DTSTART:20221106T080000
END:STANDARD
BEGIN:DAYLIGHT
TZOFFSETFROM:-0700
TZOFFSETTO:-0600
TZNAME:MDT
DTSTART:20230312T090000
END:DAYLIGHT
BEGIN:STANDARD
TZOFFSETFROM:-0600
TZOFFSETTO:-0700
TZNAME:MST
DTSTART:20231105T080000
END:STANDARD
END:VTIMEZONE
BEGIN:VEVENT
DTSTART;TZID=America/Denver:20220716T090000
DTEND;TZID=America/Denver:20220716T090000
DTSTAMP:20260422T124946
CREATED:20220221T235337Z
LAST-MODIFIED:20220710T023310Z
UID:7312-1657962000-1657962000@nocoimrg.org
SUMMARY:NoCo IMRG Membership Meeting (July) & Stove Prairie - Mishawaka Ride
DESCRIPTION:At this meeting\, we’ll be discussing plans for our Thr\, Jul 21st\, Dinner Ride\, and our Jul 30th-31st overnight ride and stay in Steamboat Springs\, CO. We’ll also be discussing upcoming August activities including Rider Skills Training on Sat\, Aug 13th\, and our Masa Hibachi Dinner Ride on Aug 18th. \nAfter our monthly meeting\, we are planning a chapter members ride up Stove Prairie Road and then down through Poudre Canyon Road\, stopping at Mishawaka in Bellevue\, CO. Note that Mishawaka no longer accepts cash payments. So bring a debit or credit card to pay for your food and refreshments. \nThis ride is rated 4 (1=easy – 5=difficult) due to curvy mountain roads and some city roads. Road Officers for this ride are Ted Wolfe (Lead) and Nate Wright (Sweep). \nFor more information on preparing for our NoCo IMRG group rides and skills training events\, click the link below: \nGoing on NoCo IMRG Group Motorcycle Rides \nThe Northern Colorado Indian Motorcycle Riders Group of Fort Collins is about riding\, socializing\, and having fun. We have monthly meetings (typically every 3rd Saturday with a few exceptions) held at the Indian Motorcycle of Fort Collins dealership to talk about IMRG Chapter topics and upcoming events. If you are not already a NoCo IMRG Chapter member and would like to learn more about us\, we invite you to attend a meeting and to connect with us.
URL:https://nocoimrg.org/event/noco-imrg-chapter-meeting-july-stove-prairie-mishawaka-ride/
LOCATION:Indian Motorcycle of Fort Collins\, 1800 Frontage Rd\, Fort Collins\, CO\, 80525\, United States
CATEGORIES:Meeting - Chapter,Ride - After Meeting
ATTACH;FMTTYPE=image/jpeg:https://nocoimrg.org/wp-content/uploads/2022/02/Mishawaka.jpg
END:VEVENT
END:VCALENDAR