BEGIN:VCALENDAR
VERSION:2.0
PRODID:-//Northern Colorado IMRG - ECPv6.15.17//NONSGML v1.0//EN
CALSCALE:GREGORIAN
METHOD:PUBLISH
X-WR-CALNAME:Northern Colorado IMRG
X-ORIGINAL-URL:https://nocoimrg.org
X-WR-CALDESC:Events for Northern Colorado IMRG
REFRESH-INTERVAL;VALUE=DURATION:PT1H
X-Robots-Tag:noindex
X-PUBLISHED-TTL:PT1H
BEGIN:VTIMEZONE
TZID:America/Denver
BEGIN:DAYLIGHT
TZOFFSETFROM:-0700
TZOFFSETTO:-0600
TZNAME:MDT
DTSTART:20210314T090000
END:DAYLIGHT
BEGIN:STANDARD
TZOFFSETFROM:-0600
TZOFFSETTO:-0700
TZNAME:MST
DTSTART:20211107T080000
END:STANDARD
BEGIN:DAYLIGHT
TZOFFSETFROM:-0700
TZOFFSETTO:-0600
TZNAME:MDT
DTSTART:20220313T090000
END:DAYLIGHT
BEGIN:STANDARD
TZOFFSETFROM:-0600
TZOFFSETTO:-0700
TZNAME:MST
DTSTART:20221106T080000
END:STANDARD
BEGIN:DAYLIGHT
TZOFFSETFROM:-0700
TZOFFSETTO:-0600
TZNAME:MDT
DTSTART:20230312T090000
END:DAYLIGHT
BEGIN:STANDARD
TZOFFSETFROM:-0600
TZOFFSETTO:-0700
TZNAME:MST
DTSTART:20231105T080000
END:STANDARD
END:VTIMEZONE
BEGIN:VEVENT
DTSTART;TZID=America/Denver:20220521T093000
DTEND;TZID=America/Denver:20220521T093000
DTSTAMP:20260422T164316
CREATED:20220221T232337Z
LAST-MODIFIED:20220519T024524Z
UID:7295-1653125400-1653125400@nocoimrg.org
SUMMARY:NoCo IMRG Membership Meeting (May) - Carter Lake Ride is CANCELLED
DESCRIPTION:At our May meeting we’ll be focusing on motorcycle awareness safety skills & precautions. We’ll also be reviewing and starting to finalize plans for our multi-day\, 2022 Durango Rendezvous event coming up very soon in June. \nWe also HAD a Carter Lake ride scheduled after the meeting. We have been discussing this and we have decided to CANCEL this ride as there are talks of possible snow in areas Friday and Saturday with high temperature expected to be only around 40 degrees. Welcome to Colorado and all things weather related this time of year! \nFor more information on preparing for our NoCo IMRG group rides and skills training events\, click the link below: \nGoing on NoCo IMRG Group Motorcycle Rides \nThe Northern Colorado Indian Motorcycle Riders Group of Fort Collins is about riding\, socializing\, and having fun. We have monthly meetings (typically every 3rd Saturday with a few exceptions) held at the Indian Motorcycle of Fort Collins dealership to talk about IMRG Chapter topics and upcoming events. If you are not already a NoCo IMRG Chapter member and would like to learn more about us\, we invite you to attend a meeting and to connect with us.
URL:https://nocoimrg.org/event/noco-imrg-chapter-meeting-april-carter-lake-ride/
LOCATION:Indian Motorcycle of Fort Collins\, 1800 Frontage Rd\, Fort Collins\, CO\, 80525\, United States
CATEGORIES:Meeting - Chapter,Ride - After Meeting
ATTACH;FMTTYPE=image/jpeg:https://nocoimrg.org/wp-content/uploads/2022/02/Carter-Lake.jpg
END:VEVENT
END:VCALENDAR