BEGIN:VCALENDAR
VERSION:2.0
PRODID:-//Northern Colorado IMRG - ECPv6.15.17//NONSGML v1.0//EN
CALSCALE:GREGORIAN
METHOD:PUBLISH
X-ORIGINAL-URL:https://nocoimrg.org
X-WR-CALDESC:Events for Northern Colorado IMRG
REFRESH-INTERVAL;VALUE=DURATION:PT1H
X-Robots-Tag:noindex
X-PUBLISHED-TTL:PT1H
BEGIN:VTIMEZONE
TZID:America/Denver
BEGIN:DAYLIGHT
TZOFFSETFROM:-0700
TZOFFSETTO:-0600
TZNAME:MDT
DTSTART:20210314T090000
END:DAYLIGHT
BEGIN:STANDARD
TZOFFSETFROM:-0600
TZOFFSETTO:-0700
TZNAME:MST
DTSTART:20211107T080000
END:STANDARD
BEGIN:DAYLIGHT
TZOFFSETFROM:-0700
TZOFFSETTO:-0600
TZNAME:MDT
DTSTART:20220313T090000
END:DAYLIGHT
BEGIN:STANDARD
TZOFFSETFROM:-0600
TZOFFSETTO:-0700
TZNAME:MST
DTSTART:20221106T080000
END:STANDARD
BEGIN:DAYLIGHT
TZOFFSETFROM:-0700
TZOFFSETTO:-0600
TZNAME:MDT
DTSTART:20230312T090000
END:DAYLIGHT
BEGIN:STANDARD
TZOFFSETFROM:-0600
TZOFFSETTO:-0700
TZNAME:MST
DTSTART:20231105T080000
END:STANDARD
END:VTIMEZONE
BEGIN:VEVENT
DTSTART;TZID=America/Denver:20220416T093000
DTEND;TZID=America/Denver:20220416T093000
DTSTAMP:20260422T183349
CREATED:20220221T222531Z
LAST-MODIFIED:20220412T174247Z
UID:7285-1650101400-1650101400@nocoimrg.org
SUMMARY:NoCo IMRG Membership Meeting (April) & Post-Meeting Ride/Lunch
DESCRIPTION:At this meeting we’ll have an opportunity to get together again and socialize with friends. We’d like to take this opportunity with the group to continue to brainstorm your ideas and topics of interest for future meetings. We’ll be discussing our post-meeting activity as well as our upcoming Lee Hill Ride on Sunday\, Apr 24th. We’ll also be discussing tentative plans for 2022 International Female Ride Day on May 7th\, and our next Rider Skills Training coming up on May 14th. \nAfter our meeting\, we’re planning a short chapter members ride & lunch. Details for that ride are still being worked out\, so expect an update in email and #slack before the meeting. Come prepared for the latest weather conditions\, gas in your bike\, hungry\, and eager to ride! \nThis ride will be rated 2-3 (1=easy – 5=difficult) for easier side roads combined with some NoCo city traffic. \nFor more information on preparing for our NoCo IMRG group rides and skills training events\, click the link below: \nGoing on NoCo IMRG Group Motorcycle Rides \nThe Northern Colorado Indian Motorcycle Riders Group of Fort Collins is about riding\, socializing\, and having fun. We have monthly meetings (typically every 3rd Saturday with a few exceptions) held at the Indian Motorcycle of Fort Collins dealership to talk about IMRG Chapter topics and upcoming events. If you are not already a NoCo IMRG Chapter member and would like to learn more about us\, we invite you to attend a meeting and to connect with us.
URL:https://nocoimrg.org/event/noco-imrg-chapter-meeting-post-ride/
LOCATION:Indian Motorcycle of Fort Collins\, 1800 Frontage Rd\, Fort Collins\, CO\, 80525\, United States
CATEGORIES:Meeting - Chapter,Ride - After Meeting
ATTACH;FMTTYPE=image/jpeg:https://nocoimrg.org/wp-content/uploads/2022/02/Wellington-CO.jpg
END:VEVENT
END:VCALENDAR