BEGIN:VCALENDAR
VERSION:2.0
PRODID:-//Northern Colorado IMRG - ECPv6.15.17//NONSGML v1.0//EN
CALSCALE:GREGORIAN
METHOD:PUBLISH
X-WR-CALNAME:Northern Colorado IMRG
X-ORIGINAL-URL:https://nocoimrg.org
X-WR-CALDESC:Events for Northern Colorado IMRG
REFRESH-INTERVAL;VALUE=DURATION:PT1H
X-Robots-Tag:noindex
X-PUBLISHED-TTL:PT1H
BEGIN:VTIMEZONE
TZID:America/Denver
BEGIN:DAYLIGHT
TZOFFSETFROM:-0700
TZOFFSETTO:-0600
TZNAME:MDT
DTSTART:20210314T090000
END:DAYLIGHT
BEGIN:STANDARD
TZOFFSETFROM:-0600
TZOFFSETTO:-0700
TZNAME:MST
DTSTART:20211107T080000
END:STANDARD
BEGIN:DAYLIGHT
TZOFFSETFROM:-0700
TZOFFSETTO:-0600
TZNAME:MDT
DTSTART:20220313T090000
END:DAYLIGHT
BEGIN:STANDARD
TZOFFSETFROM:-0600
TZOFFSETTO:-0700
TZNAME:MST
DTSTART:20221106T080000
END:STANDARD
BEGIN:DAYLIGHT
TZOFFSETFROM:-0700
TZOFFSETTO:-0600
TZNAME:MDT
DTSTART:20230312T090000
END:DAYLIGHT
BEGIN:STANDARD
TZOFFSETFROM:-0600
TZOFFSETTO:-0700
TZNAME:MST
DTSTART:20231105T080000
END:STANDARD
END:VTIMEZONE
BEGIN:VEVENT
DTSTART;TZID=America/Denver:20220319T093000
DTEND;TZID=America/Denver:20220319T093000
DTSTAMP:20260422T201316
CREATED:20220221T141302Z
LAST-MODIFIED:20220307T001008Z
UID:7247-1647682200-1647682200@nocoimrg.org
SUMMARY:NoCo IMRG Membership Meeting (March) & Kersey Pizza Ride
DESCRIPTION:At this meeting we’ll be discussing our Kersey Pizza Ride and upcoming Vern’s Breakfast ride on Sunday\, Mar 27th. We’ll also review Road Officer Training and Rider Skills Training coming up on April 9th at Timberline Church in Fort Collins\, CO. \nAfter our monthly meeting\, we are planning a chapter members ride to Kersey Pizza in Kersey\, Colorado for lunch. \n\nThis ride is rated a 2 (1 being the easiest and 5 being the most difficult).\nRoad officers will be Paul Carroll (Lead) and Dawn Carroll (Sweep).\n\nPlan your ride to Kersey Pizza at KerseyPizza.com. \nFor more information on preparing for our NoCo IMRG group rides and skills training events\, click the link below: \nGoing on NoCo IMRG Group Motorcycle Rides \nThe Northern Colorado Indian Motorcycle Riders Group of Fort Collins is about riding\, socializing\, and having fun. We have monthly meetings (typically every 3rd Saturday with a few exceptions) held at the Indian Motorcycle of Fort Collins dealership to talk about IMRG Chapter topics and upcoming events. If you are not already a NoCo IMRG Chapter member and would like to learn more about us\, we invite you to attend a meeting and to connect with us.
URL:https://nocoimrg.org/event/noco-imrg-chapter-meeting-kersey-pizza-ride/
LOCATION:Indian Motorcycle of Fort Collins\, 1800 Frontage Rd\, Fort Collins\, CO\, 80525\, United States
CATEGORIES:Meeting - Chapter,Ride - After Meeting
ATTACH;FMTTYPE=image/jpeg:https://nocoimrg.org/wp-content/uploads/2022/02/Kersey-Pizza.jpg
END:VEVENT
END:VCALENDAR