BEGIN:VCALENDAR
VERSION:2.0
PRODID:-//Northern Colorado IMRG - ECPv6.15.17//NONSGML v1.0//EN
CALSCALE:GREGORIAN
METHOD:PUBLISH
X-ORIGINAL-URL:https://nocoimrg.org
X-WR-CALDESC:Events for Northern Colorado IMRG
REFRESH-INTERVAL;VALUE=DURATION:PT1H
X-Robots-Tag:noindex
X-PUBLISHED-TTL:PT1H
BEGIN:VTIMEZONE
TZID:America/Denver
BEGIN:DAYLIGHT
TZOFFSETFROM:-0700
TZOFFSETTO:-0600
TZNAME:MDT
DTSTART:20210314T090000
END:DAYLIGHT
BEGIN:STANDARD
TZOFFSETFROM:-0600
TZOFFSETTO:-0700
TZNAME:MST
DTSTART:20211107T080000
END:STANDARD
BEGIN:DAYLIGHT
TZOFFSETFROM:-0700
TZOFFSETTO:-0600
TZNAME:MDT
DTSTART:20220313T090000
END:DAYLIGHT
BEGIN:STANDARD
TZOFFSETFROM:-0600
TZOFFSETTO:-0700
TZNAME:MST
DTSTART:20221106T080000
END:STANDARD
BEGIN:DAYLIGHT
TZOFFSETFROM:-0700
TZOFFSETTO:-0600
TZNAME:MDT
DTSTART:20230312T090000
END:DAYLIGHT
BEGIN:STANDARD
TZOFFSETFROM:-0600
TZOFFSETTO:-0700
TZNAME:MST
DTSTART:20231105T080000
END:STANDARD
BEGIN:DAYLIGHT
TZOFFSETFROM:-0700
TZOFFSETTO:-0600
TZNAME:MDT
DTSTART:20240310T090000
END:DAYLIGHT
BEGIN:STANDARD
TZOFFSETFROM:-0600
TZOFFSETTO:-0700
TZNAME:MST
DTSTART:20241103T080000
END:STANDARD
BEGIN:DAYLIGHT
TZOFFSETFROM:-0700
TZOFFSETTO:-0600
TZNAME:MDT
DTSTART:20250309T090000
END:DAYLIGHT
BEGIN:STANDARD
TZOFFSETFROM:-0600
TZOFFSETTO:-0700
TZNAME:MST
DTSTART:20251102T080000
END:STANDARD
END:VTIMEZONE
BEGIN:VEVENT
DTSTART;TZID=America/Denver:20220106T183000
DTEND;TZID=America/Denver:20220106T183000
DTSTAMP:20260425T043714
CREATED:20220103T195757Z
LAST-MODIFIED:20220222T005628Z
UID:7173-1641493800-1641493800@nocoimrg.org
SUMMARY:NoCo IMRG Board Meeting (January)
DESCRIPTION:Northern Colorado Indian Motorcycle Riders Group Board Meeting. \nThe NoCo IMRG board meets on the 1st Thursday of the Month.
URL:https://nocoimrg.org/event/noco-imrg-board-meeting-january-3/
CATEGORIES:Meeting - Board
END:VEVENT
BEGIN:VEVENT
DTSTART;TZID=America/Denver:20220203T183000
DTEND;TZID=America/Denver:20220203T183000
DTSTAMP:20260425T043714
CREATED:20220103T195914Z
LAST-MODIFIED:20220222T005431Z
UID:7175-1643913000-1643913000@nocoimrg.org
SUMMARY:NoCo IMRG Board Meeting (February)
DESCRIPTION:Northern Colorado Indian Motorcycle Riders Group Board Meeting. \nThe NoCo IMRG board meets on the 1st Thursday of the Month.
URL:https://nocoimrg.org/event/noco-imrg-board-meeting-february-2/
CATEGORIES:Meeting - Board
END:VEVENT
BEGIN:VEVENT
DTSTART;TZID=America/Denver:20220303T183000
DTEND;TZID=America/Denver:20220303T183000
DTSTAMP:20260425T043714
CREATED:20220103T200108Z
LAST-MODIFIED:20220222T005350Z
UID:7178-1646332200-1646332200@nocoimrg.org
SUMMARY:NoCo IMRG Board Meeting (March)
DESCRIPTION:Northern Colorado Indian Motorcycle Riders Group Board Meeting. \nThe NoCo IMRG board meets on the 1st Thursday of the Month.
URL:https://nocoimrg.org/event/noco-imrg-board-meeting-march-3/
CATEGORIES:Meeting - Board
END:VEVENT
BEGIN:VEVENT
DTSTART;TZID=America/Denver:20220407T183000
DTEND;TZID=America/Denver:20220407T183000
DTSTAMP:20260425T043714
CREATED:20220103T200506Z
LAST-MODIFIED:20220222T005312Z
UID:7180-1649356200-1649356200@nocoimrg.org
SUMMARY:NoCo IMRG Board Meeting (April)
DESCRIPTION:Northern Colorado Indian Motorcycle Riders Group Board Meeting. \nThe NoCo IMRG board meets on the 1st Thursday of the Month.
URL:https://nocoimrg.org/event/noco-imrg-board-meeting-april-3/
CATEGORIES:Meeting - Board
END:VEVENT
BEGIN:VEVENT
DTSTART;TZID=America/Denver:20220505T183000
DTEND;TZID=America/Denver:20220505T183000
DTSTAMP:20260425T043714
CREATED:20220103T200614Z
LAST-MODIFIED:20220222T005245Z
UID:7182-1651775400-1651775400@nocoimrg.org
SUMMARY:NoCo IMRG Board Meeting (May)
DESCRIPTION:Northern Colorado Indian Motorcycle Riders Group Board Meeting. \nThe NoCo IMRG board meets on the 1st Thursday of the Month.
URL:https://nocoimrg.org/event/noco-imrg-board-meeting-may-3/
CATEGORIES:Meeting - Board
END:VEVENT
BEGIN:VEVENT
DTSTART;TZID=America/Denver:20220602T183000
DTEND;TZID=America/Denver:20220602T183000
DTSTAMP:20260425T043714
CREATED:20220103T200719Z
LAST-MODIFIED:20220222T005156Z
UID:7184-1654194600-1654194600@nocoimrg.org
SUMMARY:NoCo IMRG Board Meeting (June)
DESCRIPTION:Northern Colorado Indian Motorcycle Riders Group Board Meeting. \nThe NoCo IMRG board meets on the 1st Thursday of the Month.
URL:https://nocoimrg.org/event/noco-imrg-board-meeting-june-3/
CATEGORIES:Meeting - Board
END:VEVENT
BEGIN:VEVENT
DTSTART;TZID=America/Denver:20220707T183000
DTEND;TZID=America/Denver:20220707T183000
DTSTAMP:20260425T043714
CREATED:20220103T200817Z
LAST-MODIFIED:20220222T005108Z
UID:7186-1657218600-1657218600@nocoimrg.org
SUMMARY:NoCo IMRG Board Meeting (July)
DESCRIPTION:Northern Colorado Indian Motorcycle Riders Group Board Meeting. \nThe NoCo IMRG board meets on the 1st Thursday of the Month.
URL:https://nocoimrg.org/event/noco-imrg-board-meeting-july-3/
CATEGORIES:Meeting - Board
END:VEVENT
BEGIN:VEVENT
DTSTART;TZID=America/Denver:20220804T183000
DTEND;TZID=America/Denver:20220804T183000
DTSTAMP:20260425T043714
CREATED:20220222T005001Z
LAST-MODIFIED:20220222T005001Z
UID:7334-1659637800-1659637800@nocoimrg.org
SUMMARY:NoCo IMRG Board Meeting (August)
DESCRIPTION:Northern Colorado Indian Motorcycle Riders Group Board Meeting. \nThe NoCo IMRG board meets on the 1st Thursday of the Month.
URL:https://nocoimrg.org/event/noco-imrg-board-meeting-august-4/
CATEGORIES:Meeting - Board
END:VEVENT
BEGIN:VEVENT
DTSTART;TZID=America/Denver:20220901T183000
DTEND;TZID=America/Denver:20220901T183000
DTSTAMP:20260425T043714
CREATED:20220103T201037Z
LAST-MODIFIED:20220222T004817Z
UID:7190-1662057000-1662057000@nocoimrg.org
SUMMARY:NoCo IMRG Board Meeting (September)
DESCRIPTION:Northern Colorado Indian Motorcycle Riders Group Board Meeting. \nThe NoCo IMRG board meets on the 1st Thursday of the Month.
URL:https://nocoimrg.org/event/noco-imrg-board-meeting-september-3/
CATEGORIES:Meeting - Board
END:VEVENT
BEGIN:VEVENT
DTSTART;TZID=America/Denver:20221006T183000
DTEND;TZID=America/Denver:20221006T183000
DTSTAMP:20260425T043714
CREATED:20220103T201142Z
LAST-MODIFIED:20220222T004731Z
UID:7192-1665081000-1665081000@nocoimrg.org
SUMMARY:NoCo IMRG Board Meeting (October)
DESCRIPTION:Northern Colorado Indian Motorcycle Riders Group Board Meeting. \nThe NoCo IMRG board meets on the 1st Thursday of the Month.
URL:https://nocoimrg.org/event/noco-imrg-board-meeting-october-3/
CATEGORIES:Meeting - Board
END:VEVENT
BEGIN:VEVENT
DTSTART;TZID=America/Denver:20221103T183000
DTEND;TZID=America/Denver:20221103T183000
DTSTAMP:20260425T043714
CREATED:20220103T201253Z
LAST-MODIFIED:20220222T004644Z
UID:7194-1667500200-1667500200@nocoimrg.org
SUMMARY:NoCo IMRG Board Meeting (November)
DESCRIPTION:Northern Colorado Indian Motorcycle Riders Group Board Meeting. \nThe NoCo IMRG board meets on the 1st Thursday of the Month.
URL:https://nocoimrg.org/event/noco-imrg-board-meeting-november-3/
CATEGORIES:Meeting - Board
END:VEVENT
BEGIN:VEVENT
DTSTART;TZID=America/Denver:20221201T183000
DTEND;TZID=America/Denver:20221201T183000
DTSTAMP:20260425T043714
CREATED:20220103T201401Z
LAST-MODIFIED:20220222T004541Z
UID:7196-1669919400-1669919400@nocoimrg.org
SUMMARY:NoCo IMRG Board Meeting (December)
DESCRIPTION:Northern Colorado Indian Motorcycle Riders Group Board Meeting. \nThe NoCo IMRG board meets on the 1st Thursday of the Month.
URL:https://nocoimrg.org/event/noco-imrg-board-meeting-december-3/
CATEGORIES:Meeting - Board
END:VEVENT
BEGIN:VEVENT
DTSTART;TZID=America/Denver:20230105T183000
DTEND;TZID=America/Denver:20230105T183000
DTSTAMP:20260425T043714
CREATED:20221230T145831Z
LAST-MODIFIED:20230102T195925Z
UID:9103-1672943400-1672943400@nocoimrg.org
SUMMARY:NoCo IMRG Board Meeting (January)
DESCRIPTION:NoCo IMRG Board Meeting (January) \n  \nNorthern Colorado Indian Motorcycle Riders Group Board Meeting. \nThe NoCo IMRG board meets on the 1st Thursday of the Month.
URL:https://nocoimrg.org/event/noco-imrg-board-meeting-january-4/
CATEGORIES:Meeting - Board
END:VEVENT
BEGIN:VEVENT
DTSTART;TZID=America/Denver:20230202T180000
DTEND;TZID=America/Denver:20230202T180000
DTSTAMP:20260425T043714
CREATED:20221230T150110Z
LAST-MODIFIED:20230128T174305Z
UID:9105-1675360800-1675360800@nocoimrg.org
SUMMARY:NoCo IMRG Board Meeting (February)
DESCRIPTION:NoCo IMRG Board Meeting (February) \n  \nNorthern Colorado Indian Motorcycle Riders Group Board Meeting. \nThe NoCo IMRG board meets on the 1st Thursday of the Month.
URL:https://nocoimrg.org/event/noco-imrg-board-meeting-february-3/
CATEGORIES:Meeting - Board
END:VEVENT
BEGIN:VEVENT
DTSTART;TZID=America/Denver:20230302T180000
DTEND;TZID=America/Denver:20230302T180000
DTSTAMP:20260425T043714
CREATED:20221230T150223Z
LAST-MODIFIED:20230128T174159Z
UID:9107-1677780000-1677780000@nocoimrg.org
SUMMARY:NoCo IMRG Board Meeting (March)
DESCRIPTION:NoCo IMRG Board Meeting (March) \n  \nNorthern Colorado Indian Motorcycle Riders Group Board Meeting. \nThe NoCo IMRG board meets on the 1st Thursday of the Month.
URL:https://nocoimrg.org/event/noco-imrg-board-meeting-march-4/
CATEGORIES:Meeting - Board
END:VEVENT
BEGIN:VEVENT
DTSTART;TZID=America/Denver:20230406T180000
DTEND;TZID=America/Denver:20230406T180000
DTSTAMP:20260425T043714
CREATED:20221230T150309Z
LAST-MODIFIED:20230128T174125Z
UID:9109-1680804000-1680804000@nocoimrg.org
SUMMARY:NoCo IMRG Board Meeting (April)
DESCRIPTION:NoCo IMRG Board Meeting (April) \n  \nNorthern Colorado Indian Motorcycle Riders Group Board Meeting. \nThe NoCo IMRG board meets on the 1st Thursday of the Month.
URL:https://nocoimrg.org/event/noco-imrg-board-meeting-april-4/
CATEGORIES:Meeting - Board
END:VEVENT
BEGIN:VEVENT
DTSTART;TZID=America/Denver:20230504T180000
DTEND;TZID=America/Denver:20230504T180000
DTSTAMP:20260425T043714
CREATED:20221230T150402Z
LAST-MODIFIED:20230128T174435Z
UID:9111-1683223200-1683223200@nocoimrg.org
SUMMARY:NoCo IMRG Board Meeting (May)
DESCRIPTION:NoCo IMRG Board Meeting (May) \n  \nNorthern Colorado Indian Motorcycle Riders Group Board Meeting. \nThe NoCo IMRG board meets on the 1st Thursday of the Month.
URL:https://nocoimrg.org/event/noco-imrg-board-meeting-may-4/
CATEGORIES:Meeting - Board
END:VEVENT
BEGIN:VEVENT
DTSTART;TZID=America/Denver:20230601T180000
DTEND;TZID=America/Denver:20230601T180000
DTSTAMP:20260425T043714
CREATED:20221230T150557Z
LAST-MODIFIED:20230128T174517Z
UID:9113-1685642400-1685642400@nocoimrg.org
SUMMARY:NoCo IMRG Board Meeting (June)
DESCRIPTION:NoCo IMRG Board Meeting (June) \nNorthern Colorado Indian Motorcycle Riders Group Board Meeting. \nThe NoCo IMRG board meets on the 1st Thursday of the Month.
URL:https://nocoimrg.org/event/noco-imrg-board-meeting-june-4/
CATEGORIES:Meeting - Board
END:VEVENT
BEGIN:VEVENT
DTSTART;TZID=America/Denver:20230706T180000
DTEND;TZID=America/Denver:20230706T180000
DTSTAMP:20260425T043714
CREATED:20221230T150646Z
LAST-MODIFIED:20230128T174606Z
UID:9115-1688666400-1688666400@nocoimrg.org
SUMMARY:NoCo IMRG Board Meeting (July)
DESCRIPTION:NoCo IMRG Board Meeting (July) \n  \nNorthern Colorado Indian Motorcycle Riders Group Board Meeting. \nThe NoCo IMRG board meets on the 1st Thursday of the Month.
URL:https://nocoimrg.org/event/noco-imrg-board-meeting-july-4/
CATEGORIES:Meeting - Board
END:VEVENT
BEGIN:VEVENT
DTSTART;TZID=America/Denver:20230803T180000
DTEND;TZID=America/Denver:20230803T180000
DTSTAMP:20260425T043714
CREATED:20221230T150735Z
LAST-MODIFIED:20230128T174643Z
UID:9117-1691085600-1691085600@nocoimrg.org
SUMMARY:NoCo IMRG Board Meeting (August)
DESCRIPTION:NoCo IMRG Board Meeting (August) \n  \nNorthern Colorado Indian Motorcycle Riders Group Board Meeting. \nThe NoCo IMRG board meets on the 1st Thursday of the Month.
URL:https://nocoimrg.org/event/noco-imrg-board-meeting-august-3/
CATEGORIES:Meeting - Board
END:VEVENT
BEGIN:VEVENT
DTSTART;TZID=America/Denver:20230907T180000
DTEND;TZID=America/Denver:20230907T180000
DTSTAMP:20260425T043714
CREATED:20221230T150823Z
LAST-MODIFIED:20230128T174719Z
UID:9119-1694109600-1694109600@nocoimrg.org
SUMMARY:NoCo IMRG Board Meeting (September)
DESCRIPTION:NoCo IMRG Board Meeting (September) \n  \nNorthern Colorado Indian Motorcycle Riders Group Board Meeting. \nThe NoCo IMRG board meets on the 1st Thursday of the Month.
URL:https://nocoimrg.org/event/noco-imrg-board-meeting-september-4/
CATEGORIES:Meeting - Board
END:VEVENT
BEGIN:VEVENT
DTSTART;TZID=America/Denver:20231005T180000
DTEND;TZID=America/Denver:20231005T180000
DTSTAMP:20260425T043714
CREATED:20221230T150909Z
LAST-MODIFIED:20230128T174806Z
UID:9121-1696528800-1696528800@nocoimrg.org
SUMMARY:NoCo IMRG Board Meeting (October)
DESCRIPTION:NoCo IMRG Board Meeting (October) \n  \nNorthern Colorado Indian Motorcycle Riders Group Board Meeting. \nThe NoCo IMRG board meets on the 1st Thursday of the Month.
URL:https://nocoimrg.org/event/noco-imrg-board-meeting-october-4/
CATEGORIES:Meeting - Board
END:VEVENT
BEGIN:VEVENT
DTSTART;TZID=America/Denver:20231102T180000
DTEND;TZID=America/Denver:20231102T180000
DTSTAMP:20260425T043714
CREATED:20221230T151004Z
LAST-MODIFIED:20230128T174843Z
UID:9123-1698948000-1698948000@nocoimrg.org
SUMMARY:NoCo IMRG Board Meeting (November)
DESCRIPTION:NoCo IMRG Board Meeting (November) \n  \nNorthern Colorado Indian Motorcycle Riders Group Board Meeting. \nThe NoCo IMRG board meets on the 1st Thursday of the Month.
URL:https://nocoimrg.org/event/noco-imrg-board-meeting-november-4/
CATEGORIES:Meeting - Board
END:VEVENT
BEGIN:VEVENT
DTSTART;TZID=America/Denver:20231209T093000
DTEND;TZID=America/Denver:20231209T093000
DTSTAMP:20260425T043714
CREATED:20221230T151100Z
LAST-MODIFIED:20231208T133159Z
UID:9125-1702114200-1702114200@nocoimrg.org
SUMMARY:NoCo IMRG Board Meeting (Dec)
DESCRIPTION:NoCo IMRG Board Meeting (December) \n  \nNorthern Colorado Indian Motorcycle Riders Group Board Meeting. \n  \nInstead of the usual Thursday evening meeting time\, this month’s Board meeting will be at the Indian Motorcycle of Fort Collins dealership on Saturday Dec 9 @9:30 a.m.
URL:https://nocoimrg.org/event/noco-imrg-board-meeting-december-4/
CATEGORIES:Meeting - Board
END:VEVENT
BEGIN:VEVENT
DTSTART;TZID=America/Denver:20240104T180000
DTEND;TZID=America/Denver:20240104T180000
DTSTAMP:20260425T043714
CREATED:20231208T132656Z
LAST-MODIFIED:20231208T132656Z
UID:11079-1704391200-1704391200@nocoimrg.org
SUMMARY:NoCo IMRG Board Meeting (January)
DESCRIPTION:NoCo IMRG Board Meeting (January) \n  \nNorthern Colorado Indian Motorcycle Riders Group Board Meeting. \nThe NoCo IMRG board meets on the 1st Thursday of the Month.
URL:https://nocoimrg.org/event/noco-imrg-board-meeting-january-5/
CATEGORIES:Meeting - Board
END:VEVENT
BEGIN:VEVENT
DTSTART;TZID=America/Denver:20240201T180000
DTEND;TZID=America/Denver:20240201T180000
DTSTAMP:20260425T043714
CREATED:20240126T145852Z
LAST-MODIFIED:20240126T150245Z
UID:11376-1706810400-1706810400@nocoimrg.org
SUMMARY:NoCo IMRG Board Meeting (February)
DESCRIPTION:NoCo IMRG Board Meeting \n  \nNorthern Colorado Indian Motorcycle Riders Group Board Meeting. \nThe NoCo IMRG board meets on the 1st Thursday of the Month.
URL:https://nocoimrg.org/event/noco-imrg-board-meeting-february-4/
CATEGORIES:Meeting - Board
END:VEVENT
BEGIN:VEVENT
DTSTART;TZID=America/Denver:20240307T180000
DTEND;TZID=America/Denver:20240307T180000
DTSTAMP:20260425T043714
CREATED:20240126T150156Z
LAST-MODIFIED:20240126T150156Z
UID:11378-1709834400-1709834400@nocoimrg.org
SUMMARY:NoCo IMRG Board Meeting (March)
DESCRIPTION:NoCo IMRG Board Meeting (March) \n  \nNorthern Colorado Indian Motorcycle Riders Group Board Meeting. \nThe NoCo IMRG board meets on the 1st Thursday of the Month.
URL:https://nocoimrg.org/event/noco-imrg-board-meeting-march-5/
CATEGORIES:Meeting - Board
END:VEVENT
BEGIN:VEVENT
DTSTART;TZID=America/Denver:20240404T180000
DTEND;TZID=America/Denver:20240404T180000
DTSTAMP:20260425T043714
CREATED:20240126T150458Z
LAST-MODIFIED:20240126T150527Z
UID:11381-1712253600-1712253600@nocoimrg.org
SUMMARY:NoCo IMRG Board Meeting (April)
DESCRIPTION:NoCo IMRG Board Meeting \n  \nNorthern Colorado Indian Motorcycle Riders Group Board Meeting. \nThe NoCo IMRG board meets on the 1st Thursday of the Month.
URL:https://nocoimrg.org/event/noco-imrg-board-meeting-march-6/
CATEGORIES:Meeting - Board
END:VEVENT
BEGIN:VEVENT
DTSTART;TZID=America/Denver:20240502T180000
DTEND;TZID=America/Denver:20240502T180000
DTSTAMP:20260425T043714
CREATED:20240126T150637Z
LAST-MODIFIED:20240126T150637Z
UID:11384-1714672800-1714672800@nocoimrg.org
SUMMARY:NoCo IMRG Board Meeting (May)
DESCRIPTION:NoCo IMRG Board Meeting \n  \nNorthern Colorado Indian Motorcycle Riders Group Board Meeting. \nThe NoCo IMRG board meets on the 1st Thursday of the Month.
URL:https://nocoimrg.org/event/noco-imrg-board-meeting-may-5/
CATEGORIES:Meeting - Board
END:VEVENT
BEGIN:VEVENT
DTSTART;TZID=America/Denver:20240606T180000
DTEND;TZID=America/Denver:20240606T180000
DTSTAMP:20260425T043714
CREATED:20240126T150745Z
LAST-MODIFIED:20240126T150745Z
UID:11386-1717696800-1717696800@nocoimrg.org
SUMMARY:NoCo IMRG Board Meeting (June)
DESCRIPTION:NoCo IMRG Board Meeting \n  \nNorthern Colorado Indian Motorcycle Riders Group Board Meeting. \nThe NoCo IMRG board meets on the 1st Thursday of the Month.
URL:https://nocoimrg.org/event/noco-imrg-board-meeting-june-5/
CATEGORIES:Meeting - Board
END:VEVENT
END:VCALENDAR