BEGIN:VCALENDAR
VERSION:2.0
PRODID:-//Northern Colorado IMRG - ECPv6.15.17//NONSGML v1.0//EN
CALSCALE:GREGORIAN
METHOD:PUBLISH
X-WR-CALNAME:Northern Colorado IMRG
X-ORIGINAL-URL:https://nocoimrg.org
X-WR-CALDESC:Events for Northern Colorado IMRG
REFRESH-INTERVAL;VALUE=DURATION:PT1H
X-Robots-Tag:noindex
X-PUBLISHED-TTL:PT1H
BEGIN:VTIMEZONE
TZID:America/Denver
BEGIN:DAYLIGHT
TZOFFSETFROM:-0700
TZOFFSETTO:-0600
TZNAME:MDT
DTSTART:20240310T090000
END:DAYLIGHT
BEGIN:STANDARD
TZOFFSETFROM:-0600
TZOFFSETTO:-0700
TZNAME:MST
DTSTART:20241103T080000
END:STANDARD
BEGIN:DAYLIGHT
TZOFFSETFROM:-0700
TZOFFSETTO:-0600
TZNAME:MDT
DTSTART:20250309T090000
END:DAYLIGHT
BEGIN:STANDARD
TZOFFSETFROM:-0600
TZOFFSETTO:-0700
TZNAME:MST
DTSTART:20251102T080000
END:STANDARD
BEGIN:DAYLIGHT
TZOFFSETFROM:-0700
TZOFFSETTO:-0600
TZNAME:MDT
DTSTART:20260308T090000
END:DAYLIGHT
BEGIN:STANDARD
TZOFFSETFROM:-0600
TZOFFSETTO:-0700
TZNAME:MST
DTSTART:20261101T080000
END:STANDARD
BEGIN:DAYLIGHT
TZOFFSETFROM:-0700
TZOFFSETTO:-0600
TZNAME:MDT
DTSTART:20270314T090000
END:DAYLIGHT
BEGIN:STANDARD
TZOFFSETFROM:-0600
TZOFFSETTO:-0700
TZNAME:MST
DTSTART:20271107T080000
END:STANDARD
END:VTIMEZONE
BEGIN:VEVENT
DTSTART;TZID=America/Denver:20251204T180000
DTEND;TZID=America/Denver:20251204T180000
DTSTAMP:20260419T151538
CREATED:20250216T223125Z
LAST-MODIFIED:20250216T223125Z
UID:12746-1764871200-1764871200@nocoimrg.org
SUMMARY:NoCo IMRG Board Meeting (December)
DESCRIPTION:Northern Colorado IMRG Board Meeting \n  \nNorthern Colorado Indian Motorcycle Riders Group Board Meeting. \nThe NoCo IMRG board meets on the 1st Thursday of the Month.
URL:https://nocoimrg.org/event/noco-imrg-board-meeting-december-6/
CATEGORIES:Meeting - Board
END:VEVENT
BEGIN:VEVENT
DTSTART;TZID=America/Denver:20260108T060000
DTEND;TZID=America/Denver:20260108T180000
DTSTAMP:20260419T151538
CREATED:20260112T220539Z
LAST-MODIFIED:20260112T220539Z
UID:13901-1767852000-1767895200@nocoimrg.org
SUMMARY:NoCo IMRG Board Meeting (January)
DESCRIPTION:Northern Colorado IMRG Board Meeting \nNorthern Colorado Indian Motorcycle Riders Group Board Meeting. \nThis Board meeting is pushed a week due to the New Year holiday.
URL:https://nocoimrg.org/event/noco-imrg-board-meeting-january-7/
CATEGORIES:Meeting - Board
END:VEVENT
BEGIN:VEVENT
DTSTART;TZID=America/Denver:20260205T180000
DTEND;TZID=America/Denver:20260205T180000
DTSTAMP:20260419T151538
CREATED:20260115T020602Z
LAST-MODIFIED:20260115T020602Z
UID:13971-1770314400-1770314400@nocoimrg.org
SUMMARY:NoCo IMRG Board Meeting (February)
DESCRIPTION:Northern Colorado IMRG Board Meeting \nNorthern Colorado Indian Motorcycle Riders Group Board Meeting. \nThe NoCo IMRG board meets on the 1st Thursday of the Month.
URL:https://nocoimrg.org/event/noco-imrg-board-meeting-february-6/
LOCATION:TBD
CATEGORIES:Meeting - Board
END:VEVENT
BEGIN:VEVENT
DTSTART;TZID=America/Denver:20260305T180000
DTEND;TZID=America/Denver:20260305T180000
DTSTAMP:20260419T151538
CREATED:20260115T021525Z
LAST-MODIFIED:20260115T021525Z
UID:13974-1772733600-1772733600@nocoimrg.org
SUMMARY:NoCo IMRG Board Meeting (March)
DESCRIPTION:Northern Colorado IMRG Board Meeting \nNorthern Colorado Indian Motorcycle Riders Group Board Meeting. \nThe NoCo IMRG board meets on the 1st Thursday of the Month.
URL:https://nocoimrg.org/event/noco-imrg-board-meeting-march-7/
LOCATION:TBD
CATEGORIES:Meeting - Board
END:VEVENT
BEGIN:VEVENT
DTSTART;TZID=America/Denver:20260402T180000
DTEND;TZID=America/Denver:20260402T180000
DTSTAMP:20260419T151538
CREATED:20260115T023356Z
LAST-MODIFIED:20260115T023356Z
UID:13980-1775152800-1775152800@nocoimrg.org
SUMMARY:NoCo IMRG Board Meeting (April)
DESCRIPTION:Northern Colorado IMRG Board Meeting \nNorthern Colorado Indian Motorcycle Riders Group Board Meeting. \nThe NoCo IMRG board meets on the 1st Thursday of the Month.
URL:https://nocoimrg.org/event/noco-imrg-board-meeting-april-6/
LOCATION:TBD
CATEGORIES:Meeting - Board
END:VEVENT
BEGIN:VEVENT
DTSTART;TZID=America/Denver:20260507T180000
DTEND;TZID=America/Denver:20260507T180000
DTSTAMP:20260419T151538
CREATED:20260115T023917Z
LAST-MODIFIED:20260115T023917Z
UID:13982-1778176800-1778176800@nocoimrg.org
SUMMARY:NoCo IMRG Board Meeting (May)
DESCRIPTION:Northern Colorado IMRG Board Meeting \nNorthern Colorado Indian Motorcycle Riders Group Board Meeting. \nThe NoCo IMRG board meets on the 1st Thursday of the Month
URL:https://nocoimrg.org/event/noco-imrg-board-meeting-may-7/
LOCATION:TBD
CATEGORIES:Meeting - Board
END:VEVENT
BEGIN:VEVENT
DTSTART;TZID=America/Denver:20260604T180000
DTEND;TZID=America/Denver:20260604T180000
DTSTAMP:20260419T151538
CREATED:20260115T231138Z
LAST-MODIFIED:20260115T231138Z
UID:13986-1780596000-1780596000@nocoimrg.org
SUMMARY:NoCo IMRG Board Meeting (June)
DESCRIPTION:Northern Colorado IMRG Board Meeting \nNorthern Colorado Indian Motorcycle Riders Group Board Meeting. \nThe NoCo IMRG board meets on the 1st Thursday of the Month
URL:https://nocoimrg.org/event/noco-imrg-board-meeting-june-7/
LOCATION:TBD
CATEGORIES:Meeting - Board
END:VEVENT
BEGIN:VEVENT
DTSTART;TZID=America/Denver:20260702T180000
DTEND;TZID=America/Denver:20260702T180000
DTSTAMP:20260419T151538
CREATED:20260115T232135Z
LAST-MODIFIED:20260115T232135Z
UID:13990-1783015200-1783015200@nocoimrg.org
SUMMARY:NoCo IMRG Board Meeting (July)
DESCRIPTION:Northern Colorado IMRG Board Meeting \nNorthern Colorado Indian Motorcycle Riders Group Board Meeting. \nThe NoCo IMRG board meets on the 1st Thursday of the Month.
URL:https://nocoimrg.org/event/noco-imrg-board-meeting-july-7/
LOCATION:TBD
CATEGORIES:Meeting - Board
END:VEVENT
BEGIN:VEVENT
DTSTART;TZID=America/Denver:20260806T180000
DTEND;TZID=America/Denver:20260806T180000
DTSTAMP:20260419T151538
CREATED:20260116T000709Z
LAST-MODIFIED:20260116T000709Z
UID:13996-1786039200-1786039200@nocoimrg.org
SUMMARY:NoCo IMRG Board Meeting (August)
DESCRIPTION:Northern Colorado IMRG Board Meeting \nNorthern Colorado Indian Motorcycle Riders Group Board Meeting. \nThe NoCo IMRG board meets on the 1st Thursday of the Month.
URL:https://nocoimrg.org/event/noco-imrg-board-meeting-august-7/
LOCATION:TBD
CATEGORIES:Meeting - Board
END:VEVENT
BEGIN:VEVENT
DTSTART;TZID=America/Denver:20260903T180000
DTEND;TZID=America/Denver:20260903T180000
DTSTAMP:20260419T151538
CREATED:20260116T001454Z
LAST-MODIFIED:20260116T001454Z
UID:14000-1788458400-1788458400@nocoimrg.org
SUMMARY:NoCo IMRG Board Meeting (September)
DESCRIPTION:Northern Colorado IMRG Board Meeting \nNorthern Colorado Indian Motorcycle Riders Group Board Meeting. \nThe NoCo IMRG board meets on the 1st Thursday of the Month.
URL:https://nocoimrg.org/event/noco-imrg-board-meeting-september-7/
LOCATION:TBD
CATEGORIES:Meeting - Board
END:VEVENT
BEGIN:VEVENT
DTSTART;TZID=America/Denver:20261001T180000
DTEND;TZID=America/Denver:20261001T180000
DTSTAMP:20260419T151538
CREATED:20260116T003207Z
LAST-MODIFIED:20260116T003207Z
UID:14004-1790877600-1790877600@nocoimrg.org
SUMMARY:NoCo IMRG Board Meeting (October)
DESCRIPTION:Northern Colorado IMRG Board Meeting \nNorthern Colorado Indian Motorcycle Riders Group Board Meeting. \nThe NoCo IMRG board meets on the 1st Thursday of the Month.
URL:https://nocoimrg.org/event/noco-imrg-board-meeting-october-7/
LOCATION:TBD
CATEGORIES:Meeting - Board
END:VEVENT
BEGIN:VEVENT
DTSTART;TZID=America/Denver:20261105T180000
DTEND;TZID=America/Denver:20261105T180000
DTSTAMP:20260419T151538
CREATED:20260116T123747Z
LAST-MODIFIED:20260116T123747Z
UID:14009-1793901600-1793901600@nocoimrg.org
SUMMARY:NoCo IMRG Board Meeting (November)
DESCRIPTION:Northern Colorado IMRG Board Meeting \nNorthern Colorado Indian Motorcycle Riders Group Board Meeting. \nThe NoCo IMRG board meets on the 1st Thursday of the Month.
URL:https://nocoimrg.org/event/noco-imrg-board-meeting-november-7/
LOCATION:TBD
CATEGORIES:Meeting - Board
END:VEVENT
BEGIN:VEVENT
DTSTART;TZID=America/Denver:20261203T180000
DTEND;TZID=America/Denver:20261203T180000
DTSTAMP:20260419T151538
CREATED:20260116T124412Z
LAST-MODIFIED:20260116T124412Z
UID:14013-1796320800-1796320800@nocoimrg.org
SUMMARY:NoCo IMRG Board Meeting (December)
DESCRIPTION:Northern Colorado IMRG Board Meeting \nNorthern Colorado Indian Motorcycle Riders Group Board Meeting. \nThe NoCo IMRG board meets on the 1st Thursday of the Month.
URL:https://nocoimrg.org/event/noco-imrg-board-meeting-december-7/
LOCATION:TBD
CATEGORIES:Meeting - Board
END:VEVENT
END:VCALENDAR