BEGIN:VCALENDAR
VERSION:2.0
PRODID:-//Northern Colorado IMRG - ECPv6.15.17//NONSGML v1.0//EN
CALSCALE:GREGORIAN
METHOD:PUBLISH
X-ORIGINAL-URL:https://nocoimrg.org
X-WR-CALDESC:Events for Northern Colorado IMRG
REFRESH-INTERVAL;VALUE=DURATION:PT1H
X-Robots-Tag:noindex
X-PUBLISHED-TTL:PT1H
BEGIN:VTIMEZONE
TZID:America/Denver
BEGIN:DAYLIGHT
TZOFFSETFROM:-0700
TZOFFSETTO:-0600
TZNAME:MDT
DTSTART:20230312T090000
END:DAYLIGHT
BEGIN:STANDARD
TZOFFSETFROM:-0600
TZOFFSETTO:-0700
TZNAME:MST
DTSTART:20231105T080000
END:STANDARD
BEGIN:DAYLIGHT
TZOFFSETFROM:-0700
TZOFFSETTO:-0600
TZNAME:MDT
DTSTART:20240310T090000
END:DAYLIGHT
BEGIN:STANDARD
TZOFFSETFROM:-0600
TZOFFSETTO:-0700
TZNAME:MST
DTSTART:20241103T080000
END:STANDARD
BEGIN:DAYLIGHT
TZOFFSETFROM:-0700
TZOFFSETTO:-0600
TZNAME:MDT
DTSTART:20250309T090000
END:DAYLIGHT
BEGIN:STANDARD
TZOFFSETFROM:-0600
TZOFFSETTO:-0700
TZNAME:MST
DTSTART:20251102T080000
END:STANDARD
END:VTIMEZONE
BEGIN:VEVENT
DTSTART;TZID=America/Denver:20241107T180000
DTEND;TZID=America/Denver:20241107T180000
DTSTAMP:20260419T170557
CREATED:20240126T151527Z
LAST-MODIFIED:20240126T151527Z
UID:11396-1731002400-1731002400@nocoimrg.org
SUMMARY:NoCo IMRG Board Meeting (November)
DESCRIPTION:NoCo IMRG Board Meeting \n  \nNorthern Colorado Indian Motorcycle Riders Group Board Meeting. \nThe NoCo IMRG board meets on the 1st Thursday of the Month.
URL:https://nocoimrg.org/event/noco-imrg-board-meeting-november-5/
CATEGORIES:Meeting - Board
END:VEVENT
END:VCALENDAR